BEGIN:VCALENDAR
VERSION:2.0
PRODID:-//Observant Amersfoort - ECPv6.15.20//NONSGML v1.0//EN
CALSCALE:GREGORIAN
METHOD:PUBLISH
X-ORIGINAL-URL:https://observant.nl
X-WR-CALDESC:Evenementen voor Observant Amersfoort
REFRESH-INTERVAL;VALUE=DURATION:PT1H
X-Robots-Tag:noindex
X-PUBLISHED-TTL:PT1H
BEGIN:VTIMEZONE
TZID:UTC
BEGIN:STANDARD
TZOFFSETFROM:+0000
TZOFFSETTO:+0000
TZNAME:UTC
DTSTART:20240101T000000
END:STANDARD
END:VTIMEZONE
BEGIN:VEVENT
DTSTART;TZID=UTC:20250115T203000
DTEND;TZID=UTC:20250115T223000
DTSTAMP:20260423T150012
CREATED:20240928T071813Z
LAST-MODIFIED:20240928T071813Z
UID:2245-1736973000-1736980200@observant.nl
SUMMARY:⁠Davor Stehlik | JazzPodium Amersfoort
DESCRIPTION:Davor Stehlik behoort tot de nieuwe generatie jazzmuzikanten die zeer actief zijn in de Nederlandse jazzscene. Op het concert in Observant presenteert de gitarist zijn meest recente werk\, samen met zijn kwartet bestaande uit enkele van de meest vooraanstaande jonge Nederlandse jazzmuzikanten. \nDavor’s muziek is sterk geworteld in de jazztraditie. Davor haalt inspiratie uit veel verschillende plaatsen om zijn muziek te schrijven. Enkele van zijn muzikale helden zijn onder meer Peter Bernstein\, John Scofield\, Wynton Kelly\, Wes Montgomery\, Chico Buarque\, Cedar Walton\, Larry Goldings en John Coltrane. Het samenspel van zijn band genereert een gevoel van sterke verbondenheid en muzikale eenheid waardoor de muziek levendig\, fris en “in the moment” klinkt. \nDavor Stehlik – gitaar\nTimothy Banchet – piano\nCas Jiskoot – contrabas\nTim Hennekes – drums \nDit optreden wordt mede mogelijk gemaakt door het Fonds Podiumkunsten en het Nationaal PodiumPlan. \nEntree € 10\,00 (aan de deur € 12\,50)\nTickets zijn HIER verkrijgbaar
URL:https://observant.nl/evenement/%e2%81%a0davor-stehlik-jazzpodium-amersfoort/
CATEGORIES:Concertagenda,Jazz
ATTACH;FMTTYPE=image/jpeg:https://observant.nl/wp-content/uploads/2024/08/Davor-Stehlik-scaled.jpg
END:VEVENT
END:VCALENDAR