BEGIN:VCALENDAR
VERSION:2.0
PRODID:-//Observant Amersfoort - ECPv6.15.20//NONSGML v1.0//EN
CALSCALE:GREGORIAN
METHOD:PUBLISH
X-WR-CALNAME:Observant Amersfoort
X-ORIGINAL-URL:https://observant.nl
X-WR-CALDESC:Evenementen voor Observant Amersfoort
REFRESH-INTERVAL;VALUE=DURATION:PT1H
X-Robots-Tag:noindex
X-PUBLISHED-TTL:PT1H
BEGIN:VTIMEZONE
TZID:UTC
BEGIN:STANDARD
TZOFFSETFROM:+0000
TZOFFSETTO:+0000
TZNAME:UTC
DTSTART:20240101T000000
END:STANDARD
END:VTIMEZONE
BEGIN:VEVENT
DTSTART;TZID=UTC:20250312T203000
DTEND;TZID=UTC:20250312T223000
DTSTAMP:20260423T111735
CREATED:20240927T145111Z
LAST-MODIFIED:20250224T134609Z
UID:2235-1741811400-1741818600@observant.nl
SUMMARY:Latin Night Deluxe | To’ Mezclao
DESCRIPTION:Een keer per maand komt de crème de la crème van latin-muzikanten bij elkaar in de Observant. De gelauwerde percussionist en bandleider Nils Fischer brengt ze bij elkaar voor een onvergetelijke avond vol dans- en luisterplezier. Tropische muziek vanuit alle windstreken\, Salsa en Música Cubana op zijn best. Dit is een avond die je niet wilt missen\, dus neem je vrienden en dansschoenen mee – ¡Que Viva El Observante! \nDeze keer staat hij op het podium met To’ Mezclao\, onder leiding van Tomás Sotolongo Fuentes. Deze jonge groep Cubaanse muzikanten heeft een passie voor de son – een stijl die ooit het hart van de Cubaanse muziek vormde\, maar tegenwoordig minder vaak te horen is. Hun doel? Die rijke traditie nieuw leven inblazen en de muziek fris en sprankelend houden. Met een mix van son\, changüí\, nengón\, rumba\, bolero en guaracha brengen ze een aanstekelijke energie en speelplezier\, waardoor je moeilijk stil kunt blijven zitten. \nKom langs en beleef een avond vol Cubaanse warmte en ritme met To’ Mezclao! \nTomás Sotolongo Fuentes – Gitaar en Zang\nCarlos Gomez Piñero – Tres en Coros\nLazaro Hernandez – Bas en Coros\nNils Fischer – Congas\nDamián Alvarez Castro – Percussie en Coros \nEntree € 12\,50 tot dinsdag 12:00 uur (online)\, € 15\,00 vanaf dinsdag 12:00 uur (online en aan de deur)\nTickets zijn HIER verkrijgbaar \nGekochte kaartjes kunnen niet geretourneerd worden. \nLet op: bij latinconcerten is slechts beperkte zitplaats.
URL:https://observant.nl/evenement/latin-night-deluxe-4/
CATEGORIES:Concertagenda,Latin
ATTACH;FMTTYPE=image/jpeg:https://observant.nl/wp-content/uploads/2024/09/Tomas-Sotolongo-Fuentes.jpg
END:VEVENT
END:VCALENDAR