BEGIN:VCALENDAR
VERSION:2.0
PRODID:-//Observant Amersfoort - ECPv6.15.20//NONSGML v1.0//EN
CALSCALE:GREGORIAN
METHOD:PUBLISH
X-ORIGINAL-URL:https://observant.nl
X-WR-CALDESC:Evenementen voor Observant Amersfoort
REFRESH-INTERVAL;VALUE=DURATION:PT1H
X-Robots-Tag:noindex
X-PUBLISHED-TTL:PT1H
BEGIN:VTIMEZONE
TZID:UTC
BEGIN:STANDARD
TZOFFSETFROM:+0000
TZOFFSETTO:+0000
TZNAME:UTC
DTSTART:20240101T000000
END:STANDARD
END:VTIMEZONE
BEGIN:VEVENT
DTSTART;TZID=UTC:20250319T203000
DTEND;TZID=UTC:20250319T223000
DTSTAMP:20260423T111839
CREATED:20240927T141221Z
LAST-MODIFIED:20250224T134927Z
UID:2225-1742416200-1742423400@observant.nl
SUMMARY:Hurricane 5 | Tribute to Cannonball Adderley | JazzPodium Amersfoort
DESCRIPTION:Tenorsaxofonist Alexander Beets speelt regelmatig met zijn quintet bij Observant. Steeds brengt hij een eerbetoon aan een van de vele legendarische jazzartiesten die de geschiedenis rijk is. Deze avond neemt hij onder andere saxofonisten Rolf Delfos en Femke Mooren mee. Saxofonist Cannonball Adderley is de muzikant die deze keer wordt geëerd. \nJulian Edwin “”Cannonball”” Adderley (1928 – 1975) was een Amerikaanse multi-instrumentalist\, die vooral bekend werd als altsaxofonist\, al speelt hij soms ook sopraansaxofoon. In de jaren ’50 en ’60 was hij een van de meest toonaangevende hardbop-muzikanten. Adderley speelde ook mee op het baanbrekende album Kind of Blue van Miles Davis. \nAlexander Beets begon zijn muzikale carrière in Groenlo\, waar hij van zijn moeder muzieklessen kreeg op de piano en later ook op de klarinet. Hij ontdekte daarna de tenorsaxofoon welke zijn voorkeur bleek te hebben. Hoewel hij besloot beleids- en organisatiewetenschappen te studeren en niet naar het conservatorium te gaan heeft hij zich ontwikkeld tot een succesvol saxofonist. \nAlexander Beets is een muzikale all – rounder\, die in de traditie speelt van de legendarische rietblazers Stanley Turrentine\, Sonny Rollins en Houston Person . Alexander ‘Hurricane’ Beets is één van de zeldzame tenorhelden die Nederland rijk is (Parool). Hij maakte furore met de Beets Brothers en werkte met talloze kopstukken uit de (inter)nationale jazz. \nEntree € 10\,00 (aan de deur € 12\,50)\nTickets zijn HIER verkrijgbaar
URL:https://observant.nl/evenement/hurricane-5-jazzpodium-amersfoort-3/
CATEGORIES:Concertagenda,Jazz
ATTACH;FMTTYPE=image/jpeg:https://observant.nl/wp-content/uploads/2024/08/Alexander-Beets-fotograaf-www.denozem.com_.jpg
END:VEVENT
END:VCALENDAR