BEGIN:VCALENDAR
VERSION:2.0
PRODID:-//Observant Amersfoort - ECPv6.15.20//NONSGML v1.0//EN
CALSCALE:GREGORIAN
METHOD:PUBLISH
X-ORIGINAL-URL:https://observant.nl
X-WR-CALDESC:Evenementen voor Observant Amersfoort
REFRESH-INTERVAL;VALUE=DURATION:PT1H
X-Robots-Tag:noindex
X-PUBLISHED-TTL:PT1H
BEGIN:VTIMEZONE
TZID:UTC
BEGIN:STANDARD
TZOFFSETFROM:+0000
TZOFFSETTO:+0000
TZNAME:UTC
DTSTART:20240101T000000
END:STANDARD
END:VTIMEZONE
BEGIN:VEVENT
DTSTART;VALUE=DATE:20250321
DTEND;VALUE=DATE:20250517
DTSTAMP:20260423T095544
CREATED:20250224T142107Z
LAST-MODIFIED:20250224T143226Z
UID:2678-1742515200-1747439999@observant.nl
SUMMARY:'Jazz For The Eyes #2' – Fotografie van Paolo Gant
DESCRIPTION:FOTOexpo202 presenteert met trots\, in de Observant te Amersfoort\, de expositie Jazz For The Eyes #2\, een bijzondere fototentoonstelling van fotograaf Paolo Gant. Van 21 maart tot en met 16 mei 2025 is deze indrukwekkende collectie jazzfoto’s te bewonderen aan het Stadhuisplein 7. \nOpening op 21 maart 2025\nWe nodigen u van harte uit voor de feestelijke opening op vrijdag 21 maart. De inloop start om 17:00 uur\, gevolgd door de officiële opening om 17:30 uur. Ter gelegenheid hiervan vindt een exclusief gesprek plaats tussen Paolo Gant en jazzkenner Jeroen de Valk\, auteur van de veelgeprezen biografie over Chet Baker. Dit boek is wereldwijd verschenen in onder andere het Engels\, Duits\, Hongaars\, Italiaans en Japans. \nEen unieke jazzervaring\nIn de binnenruimte van De Observant zijn fascinerende foto’s van Chet Baker te zien\, vastgelegd door Paolo Gant op 22 maart 1988\, nu precies 37 jaar geleden. Op de binnenplaats zijn daarnaast nog enkele bijzondere jazzfoto’s van zijn hand te bewonderen. Deze expositie brengt de magie van jazzmuziek tot leven in krachtige\, tijdloze beelden. \nKom en beleef de wereld van jazz door de lens van Paolo Gant. We kijken uit naar uw komst! \nLees HIER meer over Paolo Gant
URL:https://observant.nl/evenement/jazz-for-the-eyes-2-fotografie-van-paolo-gant/
CATEGORIES:Expositie
ATTACH;FMTTYPE=image/jpeg:https://observant.nl/wp-content/uploads/2025/02/PaoloGant-Expositie-2025-Final_Online.jpg
END:VEVENT
BEGIN:VEVENT
DTSTART;TZID=UTC:20250402T203000
DTEND;TZID=UTC:20250402T223000
DTSTAMP:20260423T095544
CREATED:20250317T144147Z
LAST-MODIFIED:20250324T130729Z
UID:2691-1743625800-1743633000@observant.nl
SUMMARY:Pedro Luis y su Caney | Dias Latin Night
DESCRIPTION:Pedro Luis y su Caney speelt een mix van traditionele trova\, bolero’s\, cha cha cha\, guaracha\, en populaireson\, gecombineerd met frisse arrangementen in de stijl van Buena Vista Social Club\, Compay Segundo en Vieja Trova Santiaguera. Dit alles wordt aangevuld met prachtige eigen composities\, verrijkt met moderne elementen zoals guajeo’s en tumba’os. De complete bezetting van Caney is volledig akoestisch\, precies zoals in het legendarische ‘Casa de la Trova’ in Santiago\, met mooie zang\, tres en gitaar\, contrabas\, bongó en trompet. \nKaarten zijn nu beschikbaar\, dus zorg dat je erbij bent! \nEntree € 12\,50 (aan de deur € 15\,00) \nTickets zijn HIER verkrijgbaar \nGekochte kaartjes kunnen niet geretourneerd worden. \nLet op: bij latinconcerten is slechts beperkte zitplaats.
URL:https://observant.nl/evenement/pedro-luis-y-su-caney-dias-latin-night/
CATEGORIES:Concertagenda,Latin
ATTACH;FMTTYPE=image/jpeg:https://observant.nl/wp-content/uploads/2025/03/Pedro-Luis-y-su-Caney.jpeg
END:VEVENT
END:VCALENDAR