BEGIN:VCALENDAR
VERSION:2.0
PRODID:-//Observant Amersfoort - ECPv6.15.20//NONSGML v1.0//EN
CALSCALE:GREGORIAN
METHOD:PUBLISH
X-WR-CALNAME:Observant Amersfoort
X-ORIGINAL-URL:https://observant.nl
X-WR-CALDESC:Evenementen voor Observant Amersfoort
REFRESH-INTERVAL;VALUE=DURATION:PT1H
X-Robots-Tag:noindex
X-PUBLISHED-TTL:PT1H
BEGIN:VTIMEZONE
TZID:UTC
BEGIN:STANDARD
TZOFFSETFROM:+0000
TZOFFSETTO:+0000
TZNAME:UTC
DTSTART:20240101T000000
END:STANDARD
END:VTIMEZONE
BEGIN:VEVENT
DTSTART;TZID=UTC:20250521T203000
DTEND;TZID=UTC:20250521T223000
DTSTAMP:20260423T080422
CREATED:20250317T145854Z
LAST-MODIFIED:20250317T145854Z
UID:2695-1747859400-1747866600@observant.nl
SUMMARY:CaboCubaJazz ft. Daniel Lopez Montejo 'El Bruja'
DESCRIPTION:Eens per maand komen topmuzikanten uit de latin-scene samen in De Observant voor een avond vol dansbare en meeslepende muziek. Percussionist Nils Fischer nodigt telkens de artiesten uit en zorgt voor een bijzondere ervaring. Daniel Lopez Montejo ‘El Bruja’ (Havana\, Cuba) is een internationaal veelgevraagde salsa zanger/ componist die regelmatig optreed met onder andere Rolf Sanchez\, Timbazo\, Timba Light en vele anderen. Deze finalist van ‘The Voice van Vlaanderen’ (België) staat samen met CaboCubaJazz garant voor een uitbundig feest met Salsa\, Coladera\, Cha Cha Chá en meer. ¡Vamos – a guarachar! \nLine-up:\nDaniel Lopez Montejo ‘El Bruja’: zang\nJèryh Luz: zang\nCarlos Matos: piano\nNils Fischer: percussie\nMauro Mendez: bas\nLeonid Muñoz: drums \nEntree € 12\,50 tot dinsdag 12:00 uur (online)\, € 15\,00 vanaf dinsdag 12:00 uur (online en aan de deur)\nTickets zijn HIER verkrijgbaar \nGekochte kaartjes kunnen niet geretourneerd worden. \nLet op: bij latinconcerten is slechts beperkte zitplaats.
URL:https://observant.nl/evenement/cabocubajazz-ft-daniel-lopez-montejo-el-bruja/
CATEGORIES:Concertagenda,Latin
ATTACH;FMTTYPE=image/jpeg:https://observant.nl/wp-content/uploads/2025/03/Daniel-Lopez-Montejo-fotograaf-Alberto-Quinones-Groot.jpg
END:VEVENT
END:VCALENDAR