BEGIN:VCALENDAR
VERSION:2.0
PRODID:-//Observant Amersfoort - ECPv6.15.20//NONSGML v1.0//EN
CALSCALE:GREGORIAN
METHOD:PUBLISH
X-WR-CALNAME:Observant Amersfoort
X-ORIGINAL-URL:https://observant.nl
X-WR-CALDESC:Evenementen voor Observant Amersfoort
REFRESH-INTERVAL;VALUE=DURATION:PT1H
X-Robots-Tag:noindex
X-PUBLISHED-TTL:PT1H
BEGIN:VTIMEZONE
TZID:UTC
BEGIN:STANDARD
TZOFFSETFROM:+0000
TZOFFSETTO:+0000
TZNAME:UTC
DTSTART:20240101T000000
END:STANDARD
END:VTIMEZONE
BEGIN:VEVENT
DTSTART;TZID=UTC:20250528T203000
DTEND;TZID=UTC:20250528T223000
DTSTAMP:20260423T064603
CREATED:20241108T114354Z
LAST-MODIFIED:20250523T094019Z
UID:2330-1748464200-1748471400@observant.nl
SUMMARY:GEANNULEERD - Zinder  (Suzan Veneman) | JazzPodium Amersfoort
DESCRIPTION:Helaas komt door omstandigheden het concert van woensdag 28 mei van jazztrompettist Suzan Veneman (Zinder) te vervallen. Door het specifieke programma hebben wij gekozen om dit evenement te annuleren en later dit jaar terug te laten komen. \nJazztrompettist Suzan Veneman heeft in korte tijd de aandacht getrokken van menig jazzliefhebber in het land met haar soulvolle en energieke spel. Naast haar uitvoerende talenten zet zij zich tevens neer als veelbelovend componist en arrangeur. Haar composities schrijft zij zowel voor kleine als grote bezettingen en zitten vol avontuurlijke wendingen en kleurrijke harmonieën. Suzan speelt in de vaste bezetting van onder andere het Jazz Orchestra of the Concertgebouw en heeft haar eigen projecten\, het Suzan Veneman Sextet en nieuw ensemble Zinder. \nHet woord ‘Zinder’ staat voor: zinderend\, levendig\, vurig\, sensationeel en in het moment zijn. Iets wat volgens Suzan heel goed past bij het karakter en de beleving van het luisteren naar de trompet. Haar idee was om in dit ensemble het dynamische samenspel van vier trompetten te combineren met de vrijheid van een chord-less trio\, door bas en drums toe te voegen. Binnen deze bezetting maakt zij op speelse manier gebruik van de verschillende rollen die de trompet aanneemt binnen het jazz idioom\, in bigband-achtige tutti’s\, verstilde melodieën\, vrije improvisatie en warme samenklanken. \nDe composities zijn in de eerste plaats geschreven voor de musici van het ensemble\, waarin Veneman feilloos invoelt op de individuele karakters en muzikale expressie. Elk stuk is als een filmisch tafereel\, dat Veneman op een slimme en charmante manier met klank in beeld brengt. \nEntree € 10\,00 (aan de deur € 12\,50)\nTickets zijn HIER verkrijgbaar
URL:https://observant.nl/evenement/zinder-suzan-veneman-jazzpodium-amersfoort/
CATEGORIES:Concertagenda,Jazz
ATTACH;FMTTYPE=image/jpeg:https://observant.nl/wp-content/uploads/2024/11/Zinder2_byJuliaBoHeijnen2022.jpg
END:VEVENT
END:VCALENDAR