BEGIN:VCALENDAR
VERSION:2.0
PRODID:-//Observant Amersfoort - ECPv6.15.20//NONSGML v1.0//EN
CALSCALE:GREGORIAN
METHOD:PUBLISH
X-ORIGINAL-URL:https://observant.nl
X-WR-CALDESC:Evenementen voor Observant Amersfoort
REFRESH-INTERVAL;VALUE=DURATION:PT1H
X-Robots-Tag:noindex
X-PUBLISHED-TTL:PT1H
BEGIN:VTIMEZONE
TZID:UTC
BEGIN:STANDARD
TZOFFSETFROM:+0000
TZOFFSETTO:+0000
TZNAME:UTC
DTSTART:20240101T000000
END:STANDARD
END:VTIMEZONE
BEGIN:VEVENT
DTSTART;TZID=UTC:20250611T203000
DTEND;TZID=UTC:20250611T223000
DTSTAMP:20260423T064724
CREATED:20241108T115106Z
LAST-MODIFIED:20250430T122258Z
UID:2333-1749673800-1749681000@observant.nl
SUMMARY:Mete Erker Trio + 1 | JazzPodium Amersfoort
DESCRIPTION:Album Release Tour ‘Tilburg Noord’ \nOver de poëzie in de kieren van een jaren ’70 Vinex-wijk. En over je plek vinden. \nSaxofonist Mete Erker komt dit jaar met een gloednieuwe band bestaande uit drie zeer eigengereide musici: pianist Floris Kappeyne\, bassist Tijs Klaassen en drummer Wouter Kühne.\nMet dit trio treedt Mete Erker als solist op de voorgrond. Hij neemt daarbij alle ruimte om volledig zijn eigen spel te spelen\, open en direct\, vers van de lever. \n‘Tilburg Noord’ is het debuutalbum van de band\, en het eerste deel van een tweeluik: in het najaar komt ‘Live in Paradox’ uit. Met beide albums gaat Mete Erker terug naar zijn muzikale roots: Europees impressionisme in een wonderlijke mix met de vrije extraverte jazzmuziek van Albert Ayler en Charlie Haden. Dit alles gezien door ogen van nu. \nFree Flow Music! \nEntree € 10\,00 (aan de deur € 12\,50)\nTickets zijn HIER verkrijgbaar
URL:https://observant.nl/evenement/mete-erker-trio-1-jazzpodium-amersfoort/
CATEGORIES:Concertagenda,Jazz
ATTACH;FMTTYPE=image/jpeg:https://observant.nl/wp-content/uploads/2024/09/Mete-Erker-1-┬®-Gerda-Genis-HiRes.jpg
END:VEVENT
END:VCALENDAR