BEGIN:VCALENDAR
VERSION:2.0
PRODID:-//Observant Amersfoort - ECPv6.15.20//NONSGML v1.0//EN
CALSCALE:GREGORIAN
METHOD:PUBLISH
X-WR-CALNAME:Observant Amersfoort
X-ORIGINAL-URL:https://observant.nl
X-WR-CALDESC:Evenementen voor Observant Amersfoort
REFRESH-INTERVAL;VALUE=DURATION:PT1H
X-Robots-Tag:noindex
X-PUBLISHED-TTL:PT1H
BEGIN:VTIMEZONE
TZID:UTC
BEGIN:STANDARD
TZOFFSETFROM:+0000
TZOFFSETTO:+0000
TZNAME:UTC
DTSTART:20240101T000000
END:STANDARD
END:VTIMEZONE
BEGIN:VEVENT
DTSTART;VALUE=DATE:20250801
DTEND;VALUE=DATE:20250804
DTSTAMP:20260423T034603
CREATED:20250626T181241Z
LAST-MODIFIED:20250626T181241Z
UID:3272-1754006400-1754265599@observant.nl
SUMMARY:Topservant | Kunstenaars met een Amersfoortse hartslag
DESCRIPTION:Topservant: een pilot voor een nieuwe kunstmanifestatie in hartje Amersfoort. Een podium voor jonge makers\, veelal met roots in Blauwdruk\, én voor nieuw artistiek talent dat de stad recent heeft verrijkt. Een plek voor ontmoeting\, inspiratie en observatie. Want als de culturele podia in de stad schaars zijn\, bouwen wij er samen gewoon één bij. \nBlauwdruk vormt al meer dan tien jaar een vruchtbare bodem voor jonge\, getalenteerde kunstenaars met een Amersfoortse hartslag. Jaar na jaar presenteert Blauwdruk een nieuwe lichting makers. Kunst leeft\, groeit\, beweegt. Veel kunstenaars zetten hun ontwikkeling voort\, soms met hulp van het netwerk dat Blauwdruk hen biedt. \nMaar wat gebeurt er daarna? Waar staan deze makers nu? Welke richting is hun werk uitgegaan? En vooral: waar kunnen we hun werk vandaag de dag zien? \nObservant biedt hiervoor een prachtige kans: een plek in de zomermaanden om deze vragen te beantwoorden. Die kans grepen Martin\, Adinda en Ron met beide handen aan. \nMet werk van Sosse Serpenti\, Daniël van de Haterd\, Jan van Delft\, Noud van den Boogaard\, Cornelis Bos\, Tamara Boon\, Reamon van der Horst\, Isa Vink\, Elise Heinhuis & Emre Yasar\, Fons van den Boogaard\, Dorian al-Zoughayar\,Raven Kangee & HEYTAGMIJ\, Marije Koelewijn en Roos-Anne Philipsen. \nOpening 1 augustus om 20:00 uur\, met een muzikale date\n2 en 3 augustus van 12:00 tot 17:00 uur \nMeer informatie op https://www.topservant.nl/
URL:https://observant.nl/evenement/topservant/
CATEGORIES:Concertagenda,Expositie
ATTACH;FMTTYPE=image/png:https://observant.nl/wp-content/uploads/2025/06/Topservant.png
END:VEVENT
END:VCALENDAR