BEGIN:VCALENDAR
VERSION:2.0
PRODID:-//Observant Amersfoort - ECPv6.15.20//NONSGML v1.0//EN
CALSCALE:GREGORIAN
METHOD:PUBLISH
X-ORIGINAL-URL:https://observant.nl
X-WR-CALDESC:Evenementen voor Observant Amersfoort
REFRESH-INTERVAL;VALUE=DURATION:PT1H
X-Robots-Tag:noindex
X-PUBLISHED-TTL:PT1H
BEGIN:VTIMEZONE
TZID:UTC
BEGIN:STANDARD
TZOFFSETFROM:+0000
TZOFFSETTO:+0000
TZNAME:UTC
DTSTART:20240101T000000
END:STANDARD
END:VTIMEZONE
BEGIN:VEVENT
DTSTART;TZID=UTC:20250810T150000
DTEND;TZID=UTC:20250810T170000
DTSTAMP:20260423T034717
CREATED:20250605T130543Z
LAST-MODIFIED:20250709T063807Z
UID:3233-1754838000-1754845200@observant.nl
SUMMARY:Zennez Records | Double Duo's | Binnenplaatsconcert
DESCRIPTION:Ronald Douglas + Rob van Bavel – From The Heart\nZanger Ronald Douglas en pianist Rob van Bavel kennen elkaar al een eeuwigheid. ‘From The Heart’ is een heel persoonlijk en doorleefd album\, dat getuigt van een diep begrip van het repertoire dat tot de erfenis van het American Songbook behoort. Deborah Brown hoorde de mix van het album en reageerde: “Klassiekers raken nooit uit de mode\, daarom zijn ze klassiek. Dit doet denken aan Mabel Mercer\, Bobby Short en Blossom Dearie. Je wordt getransporteerd naar het Café Carlisle in New York en de jazzcabaretscene.” \nEsther van Hees + Reindert Kragt (Blue Sands) – For You\nEsther van Hees\, onlangs genomineerd voor een Edison Jazz 2025 in de categorie Nationaal Vocaal\, zingt net zo makkelijk bigbandjazz als kleinkunst en basgitarist Reindert Kragt (van garagejazzgroep Kruidkoek) vormt in zijn eentje de band\, “een fragiel waagstukje maar de versmelting is fraai”\, aldus het NRC over het duo dat de naam Blue Sands draagt. “For You is bij vlagen zelfs betoverend”\, schreef de Volkskrant over hun nieuwe plaat. Hun sound is filmisch\, dromerig en eigenzinnig\, geïnspireerd door jazz klassiekers\, klassieke componisten\, grunge uit de jaren ’90 en Disney-filmsongs. \nEntree € 12\,50 online | € 15\,00 aan de deur\nTickets zijn HIER verkrijgbaar
URL:https://observant.nl/evenement/zennez-records-double-duos-binnenplaatsconcert/
CATEGORIES:Concertagenda,Jazz
ATTACH;FMTTYPE=image/jpeg:https://observant.nl/wp-content/uploads/2025/06/Esther-van-Hees-Reindert-Kragt-photo-Hester-Doove.jpg
END:VEVENT
END:VCALENDAR