BEGIN:VCALENDAR
VERSION:2.0
PRODID:-//Observant Amersfoort - ECPv6.15.20//NONSGML v1.0//EN
CALSCALE:GREGORIAN
METHOD:PUBLISH
X-WR-CALNAME:Observant Amersfoort
X-ORIGINAL-URL:https://observant.nl
X-WR-CALDESC:Evenementen voor Observant Amersfoort
REFRESH-INTERVAL;VALUE=DURATION:PT1H
X-Robots-Tag:noindex
X-PUBLISHED-TTL:PT1H
BEGIN:VTIMEZONE
TZID:UTC
BEGIN:STANDARD
TZOFFSETFROM:+0000
TZOFFSETTO:+0000
TZNAME:UTC
DTSTART:20240101T000000
END:STANDARD
END:VTIMEZONE
BEGIN:VEVENT
DTSTART;TZID=UTC:20250824T150000
DTEND;TZID=UTC:20250824T170000
DTSTAMP:20260423T034603
CREATED:20250606T064213Z
LAST-MODIFIED:20250606T064319Z
UID:3238-1756047600-1756054800@observant.nl
SUMMARY:Hurricane 5 ft. Graziella | Binnenplaatsconcert | JazzPodium Amersfoort
DESCRIPTION:Een speciale all stars bezetting van Hurricane 5 met als bandleider saxofonist Alexander Beets. Naast zangeres Graziella Hunsel-Rivero neemt hij de saxofonisten Rolf Delfos en Femke Mooren mee. Francisco Rodríguez bespeelt deze middag de piano. \nGraziëlla Hunsel-Rivero is een veelzijdige Amsterdamse jazzvocalist met Surinaamse en Spaanse roots\, die al meer dan 40 jaar op het podium staat. Haar liefde voor jazz begon in 2011 na het horen van Sarah Vaughans “Broken Hearted Melody”\, wat leidde tot producties als “The Grand Ladies of Jazz” en “The Jazz in Me”\, en optredens met onder andere het Concertgebouworkest. Ze won een aflevering van “All Together Now”\, bereikte de kwartfinale van “Spain’s Got Talent” en blijft actief als performer en mentor voor jong talent. \nAlexander Beets is een muzikale all – rounder\, die in de traditie speelt van de legendarische rietblazers Stanley Turrentine\, Sonny Rollins en Houston Person . Alexander ‘Hurricane’ Beets is één van de zeldzame tenorhelden die Nederland rijk is (Parool). Hij maakte furore met de Beets Brothers en werkte met talloze kopstukken uit de (inter)nationale jazz. \nEntree € 12\,50 online | € 15\,00 aan de deur\nTickets zijn HIER verkrijgbaar
URL:https://observant.nl/evenement/hurricane-5-ft-graziella-binnenplaatsconcert-jazzpodium-amersfoort/
CATEGORIES:Concertagenda,Jazz
ATTACH;FMTTYPE=image/jpeg:https://observant.nl/wp-content/uploads/2025/06/Graziella-Hunsel-fotograaf-Miriam-Rijhiner-fc-Aangepast.jpg
END:VEVENT
END:VCALENDAR