BEGIN:VCALENDAR
VERSION:2.0
PRODID:-//Observant Amersfoort - ECPv6.15.20//NONSGML v1.0//EN
CALSCALE:GREGORIAN
METHOD:PUBLISH
X-WR-CALNAME:Observant Amersfoort
X-ORIGINAL-URL:https://observant.nl
X-WR-CALDESC:Evenementen voor Observant Amersfoort
REFRESH-INTERVAL;VALUE=DURATION:PT1H
X-Robots-Tag:noindex
X-PUBLISHED-TTL:PT1H
BEGIN:VTIMEZONE
TZID:UTC
BEGIN:STANDARD
TZOFFSETFROM:+0000
TZOFFSETTO:+0000
TZNAME:UTC
DTSTART:20240101T000000
END:STANDARD
END:VTIMEZONE
BEGIN:VEVENT
DTSTART;TZID=UTC:20250910T203000
DTEND;TZID=UTC:20250910T223000
DTSTAMP:20260423T021406
CREATED:20250817T061253Z
LAST-MODIFIED:20250817T061253Z
UID:3342-1757536200-1757543400@observant.nl
SUMMARY:Hurricane 5 | Crooners Tribute ft. Henk Kraaijeveld | JPA The Legends
DESCRIPTION:Saxofonist Alexander Beets presenteert een aantal avonden waarin iconische ‘Legends’\, jazzmusici of stijlperiodes centraal staan. Hij werkt hiervoor telkens samen met andere Nederlandse gastmusici. Aan bod komen in ieder geval the Crooners (Sinatra\, Nat King Cole\, Bennett)\, Freddie Hubbard\, Grand Ladies of Jazz (Ella\, Billy\, Sarah) en the Brazilian Songbook. \nDeze keer neemt hij Henk Kraaijeveld mee voor een eerbetoon aan de Crooners. Henk Kraaijeveld is geen onbekende in Amersfoort. De vocalist zoekt het muzikale avontuur op\, waarbij hij meeslepende muziek combineert met poëtische teksten en verrassende improvisaties. De prijswinnende zanger ontwapent zijn publiek met zijn warme stem en natuurlijke speelsheid op het podium. Hij toerde internationaal met diverse projecten. \nAlexander Beets is een muzikale all – rounder\, die in de traditie speelt van de legendarische rietblazers Stanley Turrentine\, Sonny Rollins en Houston Person. Alexander ‘Hurricane’ Beets is één van de zeldzame tenorhelden die Nederland rijk is (Parool). Hij maakte furore met de Beets Brothers en werkte met talloze kopstukken uit de (inter)nationale jazz. \nDit optreden wordt mede mogelijk gemaakt door het Fonds Podiumkunsten. \nEntree € 10\,00 online | € 12\,50 aan de deur\nTickets zijn HIER verkrijgbaar
URL:https://observant.nl/evenement/hurricane-5-crooners-tribute-ft-henk-kraaijeveld-jpa-the-legends/
CATEGORIES:Concertagenda,Jazz
ATTACH;FMTTYPE=image/jpeg:https://observant.nl/wp-content/uploads/2025/08/Henk-Kraaijeveld.jpg
END:VEVENT
END:VCALENDAR