BEGIN:VCALENDAR
VERSION:2.0
PRODID:-//Observant Amersfoort - ECPv6.15.20//NONSGML v1.0//EN
CALSCALE:GREGORIAN
METHOD:PUBLISH
X-WR-CALNAME:Observant Amersfoort
X-ORIGINAL-URL:https://observant.nl
X-WR-CALDESC:Evenementen voor Observant Amersfoort
REFRESH-INTERVAL;VALUE=DURATION:PT1H
X-Robots-Tag:noindex
X-PUBLISHED-TTL:PT1H
BEGIN:VTIMEZONE
TZID:Europe/Amsterdam
BEGIN:DAYLIGHT
TZOFFSETFROM:+0100
TZOFFSETTO:+0200
TZNAME:CEST
DTSTART:20240331T010000
END:DAYLIGHT
BEGIN:STANDARD
TZOFFSETFROM:+0200
TZOFFSETTO:+0100
TZNAME:CET
DTSTART:20241027T010000
END:STANDARD
BEGIN:DAYLIGHT
TZOFFSETFROM:+0100
TZOFFSETTO:+0200
TZNAME:CEST
DTSTART:20250330T010000
END:DAYLIGHT
BEGIN:STANDARD
TZOFFSETFROM:+0200
TZOFFSETTO:+0100
TZNAME:CET
DTSTART:20251026T010000
END:STANDARD
BEGIN:DAYLIGHT
TZOFFSETFROM:+0100
TZOFFSETTO:+0200
TZNAME:CEST
DTSTART:20260329T010000
END:DAYLIGHT
BEGIN:STANDARD
TZOFFSETFROM:+0200
TZOFFSETTO:+0100
TZNAME:CET
DTSTART:20261025T010000
END:STANDARD
END:VTIMEZONE
BEGIN:VEVENT
DTSTART;TZID=Europe/Amsterdam:20251102T093000
DTEND;TZID=Europe/Amsterdam:20251102T110000
DTSTAMP:20260422T232708
CREATED:20250616T122223Z
LAST-MODIFIED:20250912T132248Z
UID:3258-1762075800-1762081200@observant.nl
SUMMARY:Rosko Quartet | Bach & Breakfast
DESCRIPTION:Het Rosko Quartet is een jong en enthousiast strijkkwartet bestaande uit Merlijn Bakker (viool)\, Bente Torstensson (viool)\, Jonathan Speiser (altviool) en Eloise Visser (cello). \nDe vier jonge musici studeren allemaal aan het Conservatorium van Utrecht en zitten in hun 4e jaar van de bachelor. Wat het kwartet bijzonder maakt\, is dat er naast de muzikale klik\, ook sprake is van een sterke vriendschap. De onderlinge band zorgt ervoor dat het ensemble vrij communiceert\, zowel muzikaal als persoonlijk en dit heeft zijn weerklank in het samenspel. Het Rosko Quartet is in het tweede studiejaar opgericht en speelt sindsdien met veel plezier en toewijding samen. \nHet kwartet kreeg les van Annemarie Konijnenburg\, Timora Rosler\, Victor García García en Ernest Rombout en volgde masterclasses bij het Belinfante Quartet\, Joris van Rijn\, Jacobien Rozemond en het Parnassus Ensemble. \nEntree € 25\,00 (inclusief ontbijt)\nTickets zijn HIER verkrijgbaar
URL:https://observant.nl/evenement/rosko-quartet-bach-breakfast/
CATEGORIES:Concertagenda,Klassiek
ATTACH;FMTTYPE=image/jpeg:https://observant.nl/wp-content/uploads/2025/06/Rosko-Quartet.jpg
END:VEVENT
END:VCALENDAR