BEGIN:VCALENDAR
VERSION:2.0
PRODID:-//Observant Amersfoort - ECPv6.15.20//NONSGML v1.0//EN
CALSCALE:GREGORIAN
METHOD:PUBLISH
X-WR-CALNAME:Observant Amersfoort
X-ORIGINAL-URL:https://observant.nl
X-WR-CALDESC:Evenementen voor Observant Amersfoort
REFRESH-INTERVAL;VALUE=DURATION:PT1H
X-Robots-Tag:noindex
X-PUBLISHED-TTL:PT1H
BEGIN:VTIMEZONE
TZID:Europe/Amsterdam
BEGIN:DAYLIGHT
TZOFFSETFROM:+0100
TZOFFSETTO:+0200
TZNAME:CEST
DTSTART:20240331T010000
END:DAYLIGHT
BEGIN:STANDARD
TZOFFSETFROM:+0200
TZOFFSETTO:+0100
TZNAME:CET
DTSTART:20241027T010000
END:STANDARD
BEGIN:DAYLIGHT
TZOFFSETFROM:+0100
TZOFFSETTO:+0200
TZNAME:CEST
DTSTART:20250330T010000
END:DAYLIGHT
BEGIN:STANDARD
TZOFFSETFROM:+0200
TZOFFSETTO:+0100
TZNAME:CET
DTSTART:20251026T010000
END:STANDARD
BEGIN:DAYLIGHT
TZOFFSETFROM:+0100
TZOFFSETTO:+0200
TZNAME:CEST
DTSTART:20260329T010000
END:DAYLIGHT
BEGIN:STANDARD
TZOFFSETFROM:+0200
TZOFFSETTO:+0100
TZNAME:CET
DTSTART:20261025T010000
END:STANDARD
END:VTIMEZONE
BEGIN:VEVENT
DTSTART;TZID=Europe/Amsterdam:20251105T203000
DTEND;TZID=Europe/Amsterdam:20251105T223000
DTSTAMP:20260422T232553
CREATED:20250818T062543Z
LAST-MODIFIED:20251010T103517Z
UID:3363-1762374600-1762381800@observant.nl
SUMMARY:Rolf Delfos | JPA Jamsession
DESCRIPTION:Jamsessies zijn voor jazzmusici wat de sportschool is voor atleten. Een plek waar ze hun vaardigheden kunnen meten met collega’s\, hun bekwaamheid kunnen trainen en al improviserend tot de mooiste ontdekkingen kunnen komen. Daarom organiseert Observant dit seizoen maandelijks jamsessies die open staan voor professionele muzikanten. Elke sessie wordt geleid door een ervaren bandleider. Zo wordt het een belevenis voor zowel de musici als het publiek. \nDe jamsessies zijn gratis toegankelijk en hebben mede tot doel om nieuwe professionele makers te verbinden met Amersfoort\, het JazzPodium Amersfoort en het festival Musicians Paradise. Sessieleiders zijn dit seizoen Lucas Santana\, Ed Verhoeff\, Henk Kraaijeveld\, Rolf Delfos en Marius Beets. \nRolf Delfos is een veelzijdige alt-\, bariton- en sopraansaxofonist uit Leiden\, actief sinds de jaren ’80 in de Nederlandse jazzscene. Hij studeerde klassieke saxofoon aan het Koninklijk Conservatorium in Den Haag en jazzsaxofoon aan het Conservatorium in Rotterdam. \nAls co-bandleider van onder andere The Houdini’s\, Artvark Saxophone Quartet\, The JazzInvaders\, Licks & Brains en Lewinsky Quartet heeft Delfos meer dan 100 albums op zijn naam staan. Daarnaast is hij docent saxofoon\, methodiek en improvisatie aan het Koninklijk Conservatorium en het ArtEZ Conservatorium\, en artistiek leider van het JazzArt Orchestra. \nIn deze sessie staat het repertoire van Cannonball Adderley centraal. Heb je een stuk van deze saxofonist wat je graag wilt spelen? Geef je dan op! \nDe spelregels: \nDeelname staat open voor professionele jazzmusici uit het hele land. Wil je deelnemen\, stuur dan een bericht naar programmering@observant.nl. Geef hierbij aan welke stuk je wilt spelen. Bij vragen neemt de bandleider contact met je op. \nDit optreden wordt mede mogelijk gemaakt door het Fonds Podiumkunsten. \nEntree gratis
URL:https://observant.nl/evenement/rolf-delfos-jpa-jamsession/
CATEGORIES:Concertagenda,Jazz
ATTACH;FMTTYPE=image/jpeg:https://observant.nl/wp-content/uploads/2025/08/Rolf-Delfos-fotograaf-Roland-van-Tulder-2.jpg
END:VEVENT
END:VCALENDAR