BEGIN:VCALENDAR
VERSION:2.0
PRODID:-//Observant Amersfoort - ECPv6.15.20//NONSGML v1.0//EN
CALSCALE:GREGORIAN
METHOD:PUBLISH
X-WR-CALNAME:Observant Amersfoort
X-ORIGINAL-URL:https://observant.nl
X-WR-CALDESC:Evenementen voor Observant Amersfoort
REFRESH-INTERVAL;VALUE=DURATION:PT1H
X-Robots-Tag:noindex
X-PUBLISHED-TTL:PT1H
BEGIN:VTIMEZONE
TZID:Europe/Amsterdam
BEGIN:DAYLIGHT
TZOFFSETFROM:+0100
TZOFFSETTO:+0200
TZNAME:CEST
DTSTART:20240331T010000
END:DAYLIGHT
BEGIN:STANDARD
TZOFFSETFROM:+0200
TZOFFSETTO:+0100
TZNAME:CET
DTSTART:20241027T010000
END:STANDARD
BEGIN:DAYLIGHT
TZOFFSETFROM:+0100
TZOFFSETTO:+0200
TZNAME:CEST
DTSTART:20250330T010000
END:DAYLIGHT
BEGIN:STANDARD
TZOFFSETFROM:+0200
TZOFFSETTO:+0100
TZNAME:CET
DTSTART:20251026T010000
END:STANDARD
BEGIN:DAYLIGHT
TZOFFSETFROM:+0100
TZOFFSETTO:+0200
TZNAME:CEST
DTSTART:20260329T010000
END:DAYLIGHT
BEGIN:STANDARD
TZOFFSETFROM:+0200
TZOFFSETTO:+0100
TZNAME:CET
DTSTART:20261025T010000
END:STANDARD
END:VTIMEZONE
BEGIN:VEVENT
DTSTART;TZID=Europe/Amsterdam:20251119T203000
DTEND;TZID=Europe/Amsterdam:20251119T223000
DTSTAMP:20260422T232622
CREATED:20250818T063745Z
LAST-MODIFIED:20250912T132230Z
UID:3367-1763584200-1763591400@observant.nl
SUMMARY:Hurricane 5 | Tribute to Freddie Hubbard ft. Ellister van der Molen | JPA The Legends
DESCRIPTION:Saxofonist Alexander Beets presenteert een aantal avonden waarin iconische ‘Legends’\, jazzmusici of stijlperiodes centraal staan. Hij werkt hiervoor telkens samen met andere Nederlandse gastmusici. Aan bod komen in ieder geval the Crooners (Sinatra\, Nat King Cole\, Bennett)\, Freddie Hubbard\, Grand Ladies of Jazz (Ella\, Billy\, Sarah) en the Brazilian Songbook. \nFreddie Hubbard (1938–2008) was een invloedrijke Amerikaanse jazztrompettist\, bekend om zijn virtuoze techniek en krachtige\, expressieve spel. Hij speelde een belangrijke rol in hardbop\, postbop en fusion\, en werkte samen met grootheden als Art Blakey\, Herbie Hancock en Wayne Shorter. Hubbard bracht talloze baanbrekende albums uit\, waaronder Open Sesame\, Red Clay en First Light. \nEllister van der Molen (Den Haag\, 1977) werd als jong talent ze op tienjarige leeftijd aangenomen op het Haags Conservatorium\, waar ze aanvankelijk klassiek les kreeg en later studeerde bij jazz­iconen Jarmo Hoogendijk\, Ack van Rooijen en Frans Elsen. Door haar lyrische lijnen wordt ze voor veel uiteenlopende bezettingen gevraagd\, van salsa tot swing en avant garde. \nAlexander Beets is een muzikale all – rounder\, die in de traditie speelt van de legendarische rietblazers Stanley Turrentine\, Sonny Rollins en Houston Person. Alexander ‘Hurricane’ Beets is één van de zeldzame tenorhelden die Nederland rijk is (Parool). Hij maakte furore met de Beets Brothers en werkte met talloze kopstukken uit de (inter)nationale jazz. \nDit optreden wordt mede mogelijk gemaakt door het Fonds Podiumkunsten. \nEntree € 10\,00 online | € 12\,50 aan de deur\nTickets zijn HIER verkrijgbaar
URL:https://observant.nl/evenement/hurricane-5-tribute-to-freddie-hubbard-ft-ellister-van-der-molen-jpa-the-legends/
CATEGORIES:Concertagenda,Jazz
ATTACH;FMTTYPE=image/jpeg:https://observant.nl/wp-content/uploads/2025/08/Ellister-van-der-Molen-fotograaf-Merlijn-Doomernik.jpg
END:VEVENT
END:VCALENDAR