BEGIN:VCALENDAR
VERSION:2.0
PRODID:-//Observant Amersfoort - ECPv6.15.20//NONSGML v1.0//EN
CALSCALE:GREGORIAN
METHOD:PUBLISH
X-ORIGINAL-URL:https://observant.nl
X-WR-CALDESC:Evenementen voor Observant Amersfoort
REFRESH-INTERVAL;VALUE=DURATION:PT1H
X-Robots-Tag:noindex
X-PUBLISHED-TTL:PT1H
BEGIN:VTIMEZONE
TZID:Europe/Amsterdam
BEGIN:DAYLIGHT
TZOFFSETFROM:+0100
TZOFFSETTO:+0200
TZNAME:CEST
DTSTART:20240331T010000
END:DAYLIGHT
BEGIN:STANDARD
TZOFFSETFROM:+0200
TZOFFSETTO:+0100
TZNAME:CET
DTSTART:20241027T010000
END:STANDARD
BEGIN:DAYLIGHT
TZOFFSETFROM:+0100
TZOFFSETTO:+0200
TZNAME:CEST
DTSTART:20250330T010000
END:DAYLIGHT
BEGIN:STANDARD
TZOFFSETFROM:+0200
TZOFFSETTO:+0100
TZNAME:CET
DTSTART:20251026T010000
END:STANDARD
BEGIN:DAYLIGHT
TZOFFSETFROM:+0100
TZOFFSETTO:+0200
TZNAME:CEST
DTSTART:20260329T010000
END:DAYLIGHT
BEGIN:STANDARD
TZOFFSETFROM:+0200
TZOFFSETTO:+0100
TZNAME:CET
DTSTART:20261025T010000
END:STANDARD
END:VTIMEZONE
BEGIN:VEVENT
DTSTART;TZID=Europe/Amsterdam:20251207T093000
DTEND;TZID=Europe/Amsterdam:20251207T110000
DTSTAMP:20260422T214938
CREATED:20250616T122950Z
LAST-MODIFIED:20250912T132112Z
UID:3262-1765099800-1765105200@observant.nl
SUMMARY:Noa Cronenberg & Nout Morssinkhof | Bach & Breakfast
DESCRIPTION:Kom in de kerstsfeer met Noa Cronenberg en Nout Morssinkhof.\nNoa neemt je mee in haar belevingswereld\, die voor velen herkenbaar zal zijn. Terwijl jij geniet van een jus d’orange en een lekker croissantje\, zingt zij een combinatie van bekende en minder bekende kerstliedjes\, maar ook poëtische\, zelfgeschreven composities. \nHaar eigen nummers\, met Nederlandse teksten\, gaan over mislukte plannen\, verdwaald zijn en jezelf voorliegen dat het deze keer toch echt anders zal gaan. Samen met gitarist Nout Morssinkhof creëert ze een intiem en warm concert. \nNoa zit in het vierde jaar van het Conservatorium in Utrecht\, Nout studeert aan het Conservatorium van Amsterdam. \nEntree € 25\,00 (inclusief ontbijt)\nTickets zijn HIER verkrijgbaar
URL:https://observant.nl/evenement/noa-cronenberg-nout-morssinkhof-bach-breakfast/
CATEGORIES:Concertagenda,Klassiek
ATTACH;FMTTYPE=image/png:https://observant.nl/wp-content/uploads/2025/06/Noa-en-Nout.png
END:VEVENT
END:VCALENDAR