BEGIN:VCALENDAR
VERSION:2.0
PRODID:-//Observant Amersfoort - ECPv6.15.20//NONSGML v1.0//EN
CALSCALE:GREGORIAN
METHOD:PUBLISH
X-ORIGINAL-URL:https://observant.nl
X-WR-CALDESC:Evenementen voor Observant Amersfoort
REFRESH-INTERVAL;VALUE=DURATION:PT1H
X-Robots-Tag:noindex
X-PUBLISHED-TTL:PT1H
BEGIN:VTIMEZONE
TZID:Europe/Amsterdam
BEGIN:DAYLIGHT
TZOFFSETFROM:+0100
TZOFFSETTO:+0200
TZNAME:CEST
DTSTART:20240331T010000
END:DAYLIGHT
BEGIN:STANDARD
TZOFFSETFROM:+0200
TZOFFSETTO:+0100
TZNAME:CET
DTSTART:20241027T010000
END:STANDARD
BEGIN:DAYLIGHT
TZOFFSETFROM:+0100
TZOFFSETTO:+0200
TZNAME:CEST
DTSTART:20250330T010000
END:DAYLIGHT
BEGIN:STANDARD
TZOFFSETFROM:+0200
TZOFFSETTO:+0100
TZNAME:CET
DTSTART:20251026T010000
END:STANDARD
BEGIN:DAYLIGHT
TZOFFSETFROM:+0100
TZOFFSETTO:+0200
TZNAME:CEST
DTSTART:20260329T010000
END:DAYLIGHT
BEGIN:STANDARD
TZOFFSETFROM:+0200
TZOFFSETTO:+0100
TZNAME:CET
DTSTART:20261025T010000
END:STANDARD
END:VTIMEZONE
BEGIN:VEVENT
DTSTART;TZID=Europe/Amsterdam:20251210T203000
DTEND;TZID=Europe/Amsterdam:20251210T223000
DTSTAMP:20260422T214948
CREATED:20250818T065714Z
LAST-MODIFIED:20250912T132037Z
UID:3373-1765398600-1765405800@observant.nl
SUMMARY:Licks & Brains Funky Xmas ft. Mrs. Hips | JPA Christmas Special
DESCRIPTION:In Amerika tel je als artiest niet mee als je nog geen kerstplaat hebt uitgebracht. In navolging van artiesten James Brown\, Ray Charles\, Ella Fitzgerald\, Stevie Wonder en Beyoncé heeft ook Licks & Brains een eigen kerstplaat gemaakt met jazz-\, funk- en soulversies van bekende Christmas songs. Licks & Brains brengt dit repertoire in een wervelende funky kerstshow\, met de fantastische zangeres Mrs. Hips (Simone Roerade). \nMrs. Hips (Simone Roerade)\nSoul\, Funk\, Jazz … het zit er allemaal op bij een van de allerkrachtigste stemmen van Nederland. Zangeres Simone Roerade maakte furore als zangeres bij de Candy Dulfer band\, waarmee ze over de hele wereld toerde. Simone is in veel verschillende formaties te bewonderen en een vaste gast bij Licks & Brains. \nLicks&Brains\nLicks&Brains is een 19 man sterke band die jazz\, funk\, soul\, dance\, hip-hop en latin weet te mengen tot een verfrissende mix van dansbare Nu-Jazz XXL. Muzikaal Leider is altsaxofonist Rolf Delfos\, bekend van onder meer Artvark Saxophone Quartet\, the Houdini’s en de Jazzinvaders. De band heeft recent getoerd door China en speelt regelmatig met topartiesten uit de Nederlandse jazz/funk scene\, zoals Eric Vloeimans\, Anton Goudsmit\, Ben Herman en Thijs van Leer (Focus). \nLine-up:\nMrs. Hips – vocals\nRolf Delfos – leader/arranger\nRemco de Vries\, Peter Putting\, Remco de Looff\, Idius Felix\, Leon de Looff\, Martijn de Koning – trumpet\nPieter-Gerrit Binkhorst\, Vincent van Dijk\, Lourens la Roi\, Alexander Tichler\, Luuk Eeftink – trombone\nDennis Jong – bass trombone\nIvo Hulscher\, Bas van Schouwenburg\, Jan Willem Klein Willink – alto saxophone\nNiels Cornelisse\, Werner Most\, Casper Rouffaer – tenor saxophone\nFerre Leujes – baritone saxophone\nAlbert van Dorssen – Fender Rhodes\, Hammond\nLou Guldemond – guitar\nRamon Hanssen – percussion\nSven Rozier – drums\nMaarten Landzaat – bass \nDit optreden wordt mede mogelijk gemaakt door het Fonds Podiumkunsten. \nEntree € 10\,00 online | € 12\,50 aan de deur\nTickets zijn HIER verkrijgbaar
URL:https://observant.nl/evenement/licks-brains-funky-xmas-ft-mrs-hips-jpa-christmas-special/
CATEGORIES:Concertagenda,Jazz
ATTACH;FMTTYPE=image/jpeg:https://observant.nl/wp-content/uploads/2025/08/LB-by-Coen-Bastiaanssen6.jpg
END:VEVENT
END:VCALENDAR