BEGIN:VCALENDAR
VERSION:2.0
PRODID:-//Observant Amersfoort - ECPv6.15.20//NONSGML v1.0//EN
CALSCALE:GREGORIAN
METHOD:PUBLISH
X-ORIGINAL-URL:https://observant.nl
X-WR-CALDESC:Evenementen voor Observant Amersfoort
REFRESH-INTERVAL;VALUE=DURATION:PT1H
X-Robots-Tag:noindex
X-PUBLISHED-TTL:PT1H
BEGIN:VTIMEZONE
TZID:Europe/Amsterdam
BEGIN:DAYLIGHT
TZOFFSETFROM:+0100
TZOFFSETTO:+0200
TZNAME:CEST
DTSTART:20240331T010000
END:DAYLIGHT
BEGIN:STANDARD
TZOFFSETFROM:+0200
TZOFFSETTO:+0100
TZNAME:CET
DTSTART:20241027T010000
END:STANDARD
BEGIN:DAYLIGHT
TZOFFSETFROM:+0100
TZOFFSETTO:+0200
TZNAME:CEST
DTSTART:20250330T010000
END:DAYLIGHT
BEGIN:STANDARD
TZOFFSETFROM:+0200
TZOFFSETTO:+0100
TZNAME:CET
DTSTART:20251026T010000
END:STANDARD
BEGIN:DAYLIGHT
TZOFFSETFROM:+0100
TZOFFSETTO:+0200
TZNAME:CEST
DTSTART:20260329T010000
END:DAYLIGHT
BEGIN:STANDARD
TZOFFSETFROM:+0200
TZOFFSETTO:+0100
TZNAME:CET
DTSTART:20261025T010000
END:STANDARD
END:VTIMEZONE
BEGIN:VEVENT
DTSTART;TZID=Europe/Amsterdam:20251217T203000
DTEND;TZID=Europe/Amsterdam:20251217T223000
DTSTAMP:20260422T214244
CREATED:20250818T070325Z
LAST-MODIFIED:20250912T132055Z
UID:3376-1766003400-1766010600@observant.nl
SUMMARY:Claasen\, Klein & Maas | And so this is Christmas | JPA Christmas Special
DESCRIPTION:Een doodstille zaal\, een a capella uitvoering van Stille Nacht… en dan barst het feest los met It’s Beginning to Look Like Christmas. Tijdens dit sfeervolle kerstconcert neemt zangeres en presentator Marlies Claasen je mee langs sprankelende jazz standards\, hartverwarmende Nederlandse kerstklassiekers en verrassende arrangementen. \nVan intieme luistermomenten tot uitbundig meezingen – alles ademt de magie van kerst en het gevoel van samen. Het slotstuk is een krachtige oproep tot vrede met John Lennon’s War is Over. Laat je betoveren en zing mee – And so this is Christmas! \nLine-up\nZang & presentatie: Marlies Claasen\nGitaar: Tom Klein\nToetsen: Will Maas \nDit optreden wordt mede mogelijk gemaakt door het Fonds Podiumkunsten. \nEntree € 10\,00 online | € 12\,50 aan de deur\nTickets zijn HIER verkrijgbaar
URL:https://observant.nl/evenement/claasen-klein-maas-and-so-this-is-christmas-jpa-christmas-special/
CATEGORIES:Concertagenda,Jazz
ATTACH;FMTTYPE=image/jpeg:https://observant.nl/wp-content/uploads/2025/08/Marlies-Claasen-fotograaf-Norbert-Erinkveld.jpg
END:VEVENT
END:VCALENDAR