BEGIN:VCALENDAR
VERSION:2.0
PRODID:-//Observant Amersfoort - ECPv6.15.20//NONSGML v1.0//EN
CALSCALE:GREGORIAN
METHOD:PUBLISH
X-WR-CALNAME:Observant Amersfoort
X-ORIGINAL-URL:https://observant.nl
X-WR-CALDESC:Evenementen voor Observant Amersfoort
REFRESH-INTERVAL;VALUE=DURATION:PT1H
X-Robots-Tag:noindex
X-PUBLISHED-TTL:PT1H
BEGIN:VTIMEZONE
TZID:Europe/Amsterdam
BEGIN:DAYLIGHT
TZOFFSETFROM:+0100
TZOFFSETTO:+0200
TZNAME:CEST
DTSTART:20240331T010000
END:DAYLIGHT
BEGIN:STANDARD
TZOFFSETFROM:+0200
TZOFFSETTO:+0100
TZNAME:CET
DTSTART:20241027T010000
END:STANDARD
BEGIN:DAYLIGHT
TZOFFSETFROM:+0100
TZOFFSETTO:+0200
TZNAME:CEST
DTSTART:20250330T010000
END:DAYLIGHT
BEGIN:STANDARD
TZOFFSETFROM:+0200
TZOFFSETTO:+0100
TZNAME:CET
DTSTART:20251026T010000
END:STANDARD
BEGIN:DAYLIGHT
TZOFFSETFROM:+0100
TZOFFSETTO:+0200
TZNAME:CEST
DTSTART:20260329T010000
END:DAYLIGHT
BEGIN:STANDARD
TZOFFSETFROM:+0200
TZOFFSETTO:+0100
TZNAME:CET
DTSTART:20261025T010000
END:STANDARD
END:VTIMEZONE
BEGIN:VEVENT
DTSTART;TZID=Europe/Amsterdam:20251220T150000
DTEND;TZID=Europe/Amsterdam:20251220T170000
DTSTAMP:20260422T214914
CREATED:20251103T145159Z
LAST-MODIFIED:20251116T103824Z
UID:3433-1766242800-1766250000@observant.nl
SUMMARY:Later als je Big Band | Christmas Special
DESCRIPTION:Deze middag verandert Observant in een sfeervol muzikaal feest! De Later als je Big Band neemt je mee op een onvergetelijke muzikale reis vol energie\, warmte en verrassingen. \nMet 13 blazers\, een dijk van een ritmesectie en drie fantastische zangers brengt de Later als je Big Band een onweerstaanbare mix van klassieke bigband-swingers\, moderne grooves en natuurlijk een flinke dosis kerstsfeer. Verwacht tijdloze swing van Sinatra\, funky uitstapjes richting Snarky Puppy en verrassende kerstarrangementen (o.a. van Rob Horsting) die je meteen in decemberstemming brengen. \nKom om te swingen\, te genieten of gewoon om helemaal in de kerststemming te raken! \nEntree € 15\,00\nTickets zijn HIER verkrijgbaar
URL:https://observant.nl/evenement/later-als-je-big-band-christmas-special/
CATEGORIES:Concertagenda,Evenement,Jazz
ATTACH;FMTTYPE=image/jpeg:https://observant.nl/wp-content/uploads/2025/11/IMG_LajBB_a3_cropped_Walter-Goyen-Groot.jpg
END:VEVENT
END:VCALENDAR