BEGIN:VCALENDAR
VERSION:2.0
PRODID:-//Observant Amersfoort - ECPv6.15.20//NONSGML v1.0//EN
CALSCALE:GREGORIAN
METHOD:PUBLISH
X-WR-CALNAME:Observant Amersfoort
X-ORIGINAL-URL:https://observant.nl
X-WR-CALDESC:Evenementen voor Observant Amersfoort
REFRESH-INTERVAL;VALUE=DURATION:PT1H
X-Robots-Tag:noindex
X-PUBLISHED-TTL:PT1H
BEGIN:VTIMEZONE
TZID:Europe/Amsterdam
BEGIN:DAYLIGHT
TZOFFSETFROM:+0100
TZOFFSETTO:+0200
TZNAME:CEST
DTSTART:20250330T010000
END:DAYLIGHT
BEGIN:STANDARD
TZOFFSETFROM:+0200
TZOFFSETTO:+0100
TZNAME:CET
DTSTART:20251026T010000
END:STANDARD
BEGIN:DAYLIGHT
TZOFFSETFROM:+0100
TZOFFSETTO:+0200
TZNAME:CEST
DTSTART:20260329T010000
END:DAYLIGHT
BEGIN:STANDARD
TZOFFSETFROM:+0200
TZOFFSETTO:+0100
TZNAME:CET
DTSTART:20261025T010000
END:STANDARD
BEGIN:DAYLIGHT
TZOFFSETFROM:+0100
TZOFFSETTO:+0200
TZNAME:CEST
DTSTART:20270328T010000
END:DAYLIGHT
BEGIN:STANDARD
TZOFFSETFROM:+0200
TZOFFSETTO:+0100
TZNAME:CET
DTSTART:20271031T010000
END:STANDARD
END:VTIMEZONE
BEGIN:VEVENT
DTSTART;TZID=Europe/Amsterdam:20260114T203000
DTEND;TZID=Europe/Amsterdam:20260114T223000
DTSTAMP:20260422T201938
CREATED:20251116T103318Z
LAST-MODIFIED:20260106T110314Z
UID:3449-1768422600-1768429800@observant.nl
SUMMARY:Marius Beets | JPA Jamsession
DESCRIPTION:Let op: vanwege de weersomstandigheden is deze sessie verplaatst van woensdag 7 naar 14 januari!!! \nJamsessies zijn voor jazzmusici wat de sportschool is voor atleten. Een plek waar ze hun vaardigheden kunnen meten met collega’s\, hun bekwaamheid kunnen trainen en al improviserend tot de mooiste ontdekkingen kunnen komen. Daarom organiseert Observant dit seizoen maandelijks jamsessies die open staan voor professionele muzikanten. Elke sessie wordt geleid door een ervaren bandleider. Zo wordt het een belevenis voor zowel de musici als het publiek. \nDe jamsessies zijn hebben mede tot doel om nieuwe professionele makers te verbinden met Amersfoort\, het JazzPodium Amersfoort en het festival Musicians Paradise. Vandaag is de sessieleider Marius Beets. Hij neemt onder andere pianist Francisco Rodríguez en drummer IJsbrand Beets mee. \nMarius begon zijn muzikale levensloop op basgitaar met lokale pop- en rockbands in de Achterhoek\, waar hij opgroeide. Vanaf het moment dat hij aan het Koninklijk Conservatorium in Den Haag jazzcontrabas ging studeren ging het hard met zijn carrière. Binnen de kortste keren werd hij ingelijfd in jonge jazzgroepen als de Houdini’s en het Hoogendijk/Van den Dungen quintet. Samen met de Beets Brothers waren dit de belangrijkste groepen waarmee Marius in de jaren negentig op alle Nederlandse jazzpodia te horen was en tournees maakte door bijvoorbeeld de VS\, Australië\, Thailand en Rusland. \nLater werd hij ook ontdekt door\, en zeer geliefd bij\, gevestigde Nederlandse jazzartiesten als Rita Reys\, Rob Madna\, Rein de Graaff en Piet Noordijk. Marius’ vette beat en voortstuwende beweging paste naadloos bij het spel van de oudere jazz-generatie en gaf nieuw elan aan hun optredens. ‘Beets speelt spatzuiver\, retestrak\, degelijk en is in elke situatie een betrouwbare kracht’\, aldus een collega-bassist in het vakblad De Bassist. \nDe spelregels: \nDeelname staat open voor professionele jazzmusici uit het hele land. Wil je deelnemen\, stuur dan een bericht naar programmering@observant.nl. Geef hierbij aan welke stuk je wilt spelen. Bij vragen neemt de bandleider contact met je op. \nEntree gratis
URL:https://observant.nl/evenement/marius-beets-jpa-jamsession/
CATEGORIES:Concertagenda,Jazz
ATTACH;FMTTYPE=image/jpeg:https://observant.nl/wp-content/uploads/2025/11/Marius-Beets-2-fotograaf-Jos-Fielmich.jpg
END:VEVENT
END:VCALENDAR