BEGIN:VCALENDAR
VERSION:2.0
PRODID:-//Observant Amersfoort - ECPv6.15.20//NONSGML v1.0//EN
CALSCALE:GREGORIAN
METHOD:PUBLISH
X-WR-CALNAME:Observant Amersfoort
X-ORIGINAL-URL:https://observant.nl
X-WR-CALDESC:Evenementen voor Observant Amersfoort
REFRESH-INTERVAL;VALUE=DURATION:PT1H
X-Robots-Tag:noindex
X-PUBLISHED-TTL:PT1H
BEGIN:VTIMEZONE
TZID:Europe/Amsterdam
BEGIN:DAYLIGHT
TZOFFSETFROM:+0100
TZOFFSETTO:+0200
TZNAME:CEST
DTSTART:20250330T010000
END:DAYLIGHT
BEGIN:STANDARD
TZOFFSETFROM:+0200
TZOFFSETTO:+0100
TZNAME:CET
DTSTART:20251026T010000
END:STANDARD
BEGIN:DAYLIGHT
TZOFFSETFROM:+0100
TZOFFSETTO:+0200
TZNAME:CEST
DTSTART:20260329T010000
END:DAYLIGHT
BEGIN:STANDARD
TZOFFSETFROM:+0200
TZOFFSETTO:+0100
TZNAME:CET
DTSTART:20261025T010000
END:STANDARD
BEGIN:DAYLIGHT
TZOFFSETFROM:+0100
TZOFFSETTO:+0200
TZNAME:CEST
DTSTART:20270328T010000
END:DAYLIGHT
BEGIN:STANDARD
TZOFFSETFROM:+0200
TZOFFSETTO:+0100
TZNAME:CET
DTSTART:20271031T010000
END:STANDARD
END:VTIMEZONE
BEGIN:VEVENT
DTSTART;TZID=Europe/Amsterdam:20260128T203000
DTEND;TZID=Europe/Amsterdam:20260128T223000
DTSTAMP:20260422T184848
CREATED:20251116T110334Z
LAST-MODIFIED:20251116T110334Z
UID:3472-1769632200-1769639400@observant.nl
SUMMARY:BaKooTer | JPA Albumpresentatie
DESCRIPTION:BaKooTer is een grensverleggend trio dat pophits een compleet nieuw leven inblaast via de rauwe energie van geïmproviseerde jazz-fusion. Vergeet wat je weet over covers: BaKooTer maakt van herkenbare melodieën een ritmisch avontuur vol virtuositeit\, verrassende wendingen en brute dynamiek. Elk optreden is een vrije val door stijlen en sferen – pakkend voor de popliefhebber\, onweerstaanbaar voor de jazzfan. \nMet Sebastiaan van Bavel op piano en synths\, Cas Jiskoot op fretless bass\, en Wouter Kühne achter de drums\, transformeert BaKooTer nummers van onder andere Billie Eilish\, Rihanna\, Avicii en Ed Sheeran tot complexe\, explosieve jazzstukken. \nDit optreden wordt mede mogelijk gemaakt door het Fonds Podiumkunsten. \nEntree € 10\,00 online | € 12\,50 aan de deur\nTickets zijn HIER verkrijgbaar
URL:https://observant.nl/evenement/bakooter-jpa-albumpresentatie/
CATEGORIES:Concertagenda,Jazz
ATTACH;FMTTYPE=image/jpeg:https://observant.nl/wp-content/uploads/2025/11/BaKooTer.jpg
END:VEVENT
END:VCALENDAR