BEGIN:VCALENDAR
VERSION:2.0
PRODID:-//Observant Amersfoort - ECPv6.15.20//NONSGML v1.0//EN
CALSCALE:GREGORIAN
METHOD:PUBLISH
X-WR-CALNAME:Observant Amersfoort
X-ORIGINAL-URL:https://observant.nl
X-WR-CALDESC:Evenementen voor Observant Amersfoort
REFRESH-INTERVAL;VALUE=DURATION:PT1H
X-Robots-Tag:noindex
X-PUBLISHED-TTL:PT1H
BEGIN:VTIMEZONE
TZID:Europe/Amsterdam
BEGIN:DAYLIGHT
TZOFFSETFROM:+0100
TZOFFSETTO:+0200
TZNAME:CEST
DTSTART:20250330T010000
END:DAYLIGHT
BEGIN:STANDARD
TZOFFSETFROM:+0200
TZOFFSETTO:+0100
TZNAME:CET
DTSTART:20251026T010000
END:STANDARD
BEGIN:DAYLIGHT
TZOFFSETFROM:+0100
TZOFFSETTO:+0200
TZNAME:CEST
DTSTART:20260329T010000
END:DAYLIGHT
BEGIN:STANDARD
TZOFFSETFROM:+0200
TZOFFSETTO:+0100
TZNAME:CET
DTSTART:20261025T010000
END:STANDARD
BEGIN:DAYLIGHT
TZOFFSETFROM:+0100
TZOFFSETTO:+0200
TZNAME:CEST
DTSTART:20270328T010000
END:DAYLIGHT
BEGIN:STANDARD
TZOFFSETFROM:+0200
TZOFFSETTO:+0100
TZNAME:CET
DTSTART:20271031T010000
END:STANDARD
END:VTIMEZONE
BEGIN:VEVENT
DTSTART;TZID=Europe/Amsterdam:20260301T093000
DTEND;TZID=Europe/Amsterdam:20260301T110000
DTSTAMP:20260422T134957
CREATED:20260125T132426Z
LAST-MODIFIED:20260125T132426Z
UID:3540-1772357400-1772362800@observant.nl
SUMMARY:Aram Trio (klarinet\, viool & piano) | Bach & Breakfast
DESCRIPTION:Het Aram Trio neemt de luisteraar mee op een muzikale reis door twee werelden die ruim twee eeuwen van elkaar gescheiden zijn\, maar waarin vertelkunst\, expressie en karakter de hoofdrol spelen. In een verrassend en contrastrijk programma klinken werken van Johann Sebastian Bach\, Aram Chatsjatoerjan en Igor Stravinsky. \nHet Aram Trio bestaat uit Gijs Linn (klarinet)\, Matthia Elders (viool) en Ana Teresa Pereira (piano). Alle drie studeren zij aan het Conservatorium van Amsterdam en sinds 2025 vormen zij samen dit veelbelovende ensemble\, onder de bezielende begeleiding van saxofonist en componist Willem van Merwijk. Dankzij de bijzondere combinatie van instrumenten beschikt het trio over een opvallend rijk en kleurrijk klankpalet. \nGijs Linn begon op negenjarige leeftijd met klarinetlessen bij Martine Belderok aan muziekschool Scholen in de Kunst in Amersfoort. Inmiddels studeert hij bij Bart de Kater aan het Conservatorium van Amsterdam. Gijs is een muzikant met een brede artistieke nieuwsgierigheid: hij zoekt graag de kruisbestuiving tussen muziek en andere kunstvormen. Samen musiceren vormt de kern van zijn muzikantschap\, met ruime ervaring in zowel orkesten als kamermuziekensembles. \nMatthia Elders (2003) studeert sinds 2022 viool bij Maria Milstein aan het Conservatorium van Amsterdam. Eerder volgde zij viool- en kamermuzieklessen bij András Czifra en Benzion Shamir in Rotterdam en bij Lis Perry. Haar eerste stappen op de viool zette zij al op driejarige leeftijd bij Mea Fontijn aan de Young Talent Academy van het Rotterdams Hellendaal Muziekinstituut / Codarts Rotterdam. Matthia bespeelt een prachtige Ettore Soffritti-viool (Ferrara\, 1927)\, haar in bruikleen gegeven door het Muziekinstrumenten Fonds. \nAna Teresa Pereira werd in 2003 geboren in Braga (Portugal) en begon op vierjarige leeftijd met pianolessen aan de plaatselijke muziekschool. Op negenjarige leeftijd werd zij toegelaten tot het Conservatorium van Braga. Tegenwoordig studeert zij compositie bij Maya Verlaak en Meriç Artaç\, en piano bij Frank Peters aan het Conservatorium van Amsterdam\, waar zij haar muzikale veelzijdigheid verder verdiept. \nEntree € 25\,00 (inclusief ontbijt)\nTickets zijn HIER verkrijgbaar
URL:https://observant.nl/evenement/aram-trio-klarinet-viool-piano-bach-breakfast/
CATEGORIES:Concertagenda,Klassiek
ATTACH;FMTTYPE=image/jpeg:https://observant.nl/wp-content/uploads/2026/01/Aram-Trio.jpg
END:VEVENT
END:VCALENDAR