BEGIN:VCALENDAR
VERSION:2.0
PRODID:-//Observant Amersfoort - ECPv6.15.20//NONSGML v1.0//EN
CALSCALE:GREGORIAN
METHOD:PUBLISH
X-ORIGINAL-URL:https://observant.nl
X-WR-CALDESC:Evenementen voor Observant Amersfoort
REFRESH-INTERVAL;VALUE=DURATION:PT1H
X-Robots-Tag:noindex
X-PUBLISHED-TTL:PT1H
BEGIN:VTIMEZONE
TZID:Europe/Amsterdam
BEGIN:DAYLIGHT
TZOFFSETFROM:+0100
TZOFFSETTO:+0200
TZNAME:CEST
DTSTART:20250330T010000
END:DAYLIGHT
BEGIN:STANDARD
TZOFFSETFROM:+0200
TZOFFSETTO:+0100
TZNAME:CET
DTSTART:20251026T010000
END:STANDARD
BEGIN:DAYLIGHT
TZOFFSETFROM:+0100
TZOFFSETTO:+0200
TZNAME:CEST
DTSTART:20260329T010000
END:DAYLIGHT
BEGIN:STANDARD
TZOFFSETFROM:+0200
TZOFFSETTO:+0100
TZNAME:CET
DTSTART:20261025T010000
END:STANDARD
BEGIN:DAYLIGHT
TZOFFSETFROM:+0100
TZOFFSETTO:+0200
TZNAME:CEST
DTSTART:20270328T010000
END:DAYLIGHT
BEGIN:STANDARD
TZOFFSETFROM:+0200
TZOFFSETTO:+0100
TZNAME:CET
DTSTART:20271031T010000
END:STANDARD
END:VTIMEZONE
BEGIN:VEVENT
DTSTART;TZID=Europe/Amsterdam:20260311T203000
DTEND;TZID=Europe/Amsterdam:20260311T223000
DTSTAMP:20260421T214645
CREATED:20251216T151108Z
LAST-MODIFIED:20260130T104227Z
UID:3498-1773261000-1773268200@observant.nl
SUMMARY:Patrieck Bonnet & Casper Christensen | Wildflower | JPA Albumpresentatie
DESCRIPTION:Saxofonist Patrieck Bonnet en gitarist Casper Christensen ontmoetten elkaar voor het eerst in Den Haag in de winter van 2019. Ze gaven samen verschillende concerten in Brugge\, waarna Casper kort daarna terugkeerde naar Denemarken. De tijd verstreek\, totdat het toeval hen in februari 2024 weer samenbracht in Parijs. Deze onverwachte ontmoeting leidde tot een muzikale samenwerking met als resultaat het album Wildflower. \nEen veldbloem (Wildflower) groeit dikwijls in de berm en gaat zo aan je aandacht voorbij\, toch is het ook een organisme dat een volle levenscyclus doorgaat. Een zaadje dat ontkiemt\, een plant die tot bloei komt en met aandacht maak je het allemaal mee. Met het album Wildflower vieren deze musici de verrassingen die het leven soms biedt. \nPatrieck en Casper leverden beiden een aantal eigen stukken aan die verrassend goed bleken samen te gaan. Beide heren hebben een lyrische aanpak met nadruk op swing en zijn diep geworteld in de jazztraditie. Hun muzikale wisselwerking zorgde voor een gevoel van harmonie en ontwikkelde zich met nieuwsgierigheid en toewijding tot dit album. \nPatrieck Bonnet is actief in de Nederlandse jazzscene en speelde onder meer met het Dutch Jazz Collective en Peter Beets & the New Jazz Orchestra. Zijn stijl is lyrisch\, in de benadering van tenorsaxofonisten als Hank Mobley\, Stan Getz en Dexter Gordon. \nGitarist Casper Christensen is geïnspireerd door meesters als Jim Hall\, Wes Montgomery en Doug Raney. Christensen is een bekende naam in de Deense jazzscene. Hij speelde onder andere met Eric Ineke\, Philippe Soiret\, Bob Gullotti\, Baptist Herbin en Frands Rifbjerg. \nBassist Cas Jiskoot en drummer Imre Kruis maken de formatie compleet. \nDit optreden wordt mede mogelijk gemaakt door het Fonds Podiumkunsten. \nEntree € 10\,00 online | € 12\,50 aan de deur\nTickets zijn HIER verkrijgbaar
URL:https://observant.nl/evenement/patrieck-bonnet-ft-casper-christensen-jpa-albumpresentatie/
CATEGORIES:Concertagenda,Evenement,Jazz
ATTACH;FMTTYPE=image/jpeg:https://observant.nl/wp-content/uploads/2025/12/Patrieck-Bonnet-Casper-Christensen.jpg
END:VEVENT
END:VCALENDAR