BEGIN:VCALENDAR
VERSION:2.0
PRODID:-//Observant Amersfoort - ECPv6.15.20//NONSGML v1.0//EN
CALSCALE:GREGORIAN
METHOD:PUBLISH
X-ORIGINAL-URL:https://observant.nl
X-WR-CALDESC:Evenementen voor Observant Amersfoort
REFRESH-INTERVAL;VALUE=DURATION:PT1H
X-Robots-Tag:noindex
X-PUBLISHED-TTL:PT1H
BEGIN:VTIMEZONE
TZID:Europe/Amsterdam
BEGIN:DAYLIGHT
TZOFFSETFROM:+0100
TZOFFSETTO:+0200
TZNAME:CEST
DTSTART:20250330T010000
END:DAYLIGHT
BEGIN:STANDARD
TZOFFSETFROM:+0200
TZOFFSETTO:+0100
TZNAME:CET
DTSTART:20251026T010000
END:STANDARD
BEGIN:DAYLIGHT
TZOFFSETFROM:+0100
TZOFFSETTO:+0200
TZNAME:CEST
DTSTART:20260329T010000
END:DAYLIGHT
BEGIN:STANDARD
TZOFFSETFROM:+0200
TZOFFSETTO:+0100
TZNAME:CET
DTSTART:20261025T010000
END:STANDARD
BEGIN:DAYLIGHT
TZOFFSETFROM:+0100
TZOFFSETTO:+0200
TZNAME:CEST
DTSTART:20270328T010000
END:DAYLIGHT
BEGIN:STANDARD
TZOFFSETFROM:+0200
TZOFFSETTO:+0100
TZNAME:CET
DTSTART:20271031T010000
END:STANDARD
END:VTIMEZONE
BEGIN:VEVENT
DTSTART;TZID=Europe/Amsterdam:20260325T203000
DTEND;TZID=Europe/Amsterdam:20260325T223000
DTSTAMP:20260420T234206
CREATED:20251216T160343Z
LAST-MODIFIED:20251216T165547Z
UID:3503-1774470600-1774477800@observant.nl
SUMMARY:Beyond Miller | JazzPodium Amersfoort
DESCRIPTION:Een muzikale ode aan de virtuoze bassist Marcus Miller \nOnder de naam Beyond Miller brengt een aantal Leidse topmuzikanten een energiek en groovy programma rond de legendarische bassist\, componist en producer Marcus Miller. Hij is wereldwijd bekend om zijn virtuoze slaptechniek en unieke sound en groeide uit tot een van de meest invloedrijke bassisten van zijn generatie. Als sessiemuzikant werkte hij mee aan meer dan vierhonderd albums en speelde hij met grootheden uit de jazz\, soul en popmuziek. \nHet concept Beyond ontstond tijdens de coronaperiode\, vanuit de wens om de muziek van iconische artiesten op een nieuwe manier te verkennen. In Beyond Miller staat Millers veelzijdige oeuvre centraal: composities die hij uitbracht onder zijn eigen naam\, maar ook werken die hij schreef voor anderen — waaronder de beroemde saxofonist David Sanborn. \nDe band bestaat uit vijf ervaren musici die samen de groove\, lyriek en energie van Millers muziek tot leven brengen: Karel Boehlee (piano)\, Robin Koerts (bas)\, Lou Guldemond (gitaar)\, Sven Rozier (drums) en Rolf Delfos (saxofoon). \nDit optreden wordt mede mogelijk gemaakt door het Fonds Podiumkunsten. \nEntree € 10\,00 online | € 12\,50 aan de deur\nTickets zijn HIER verkrijgbaar
URL:https://observant.nl/evenement/beyond-miller-jazzpodium-amersfoort/
CATEGORIES:Concertagenda,Evenement,Jazz
ATTACH;FMTTYPE=image/jpeg:https://observant.nl/wp-content/uploads/2025/11/BEYOND-miller-3.jpg
END:VEVENT
END:VCALENDAR