BEGIN:VCALENDAR
VERSION:2.0
PRODID:-//Observant Amersfoort - ECPv6.15.20//NONSGML v1.0//EN
CALSCALE:GREGORIAN
METHOD:PUBLISH
X-WR-CALNAME:Observant Amersfoort
X-ORIGINAL-URL:https://observant.nl
X-WR-CALDESC:Evenementen voor Observant Amersfoort
REFRESH-INTERVAL;VALUE=DURATION:PT1H
X-Robots-Tag:noindex
X-PUBLISHED-TTL:PT1H
BEGIN:VTIMEZONE
TZID:Europe/Amsterdam
BEGIN:DAYLIGHT
TZOFFSETFROM:+0100
TZOFFSETTO:+0200
TZNAME:CEST
DTSTART:20250330T010000
END:DAYLIGHT
BEGIN:STANDARD
TZOFFSETFROM:+0200
TZOFFSETTO:+0100
TZNAME:CET
DTSTART:20251026T010000
END:STANDARD
BEGIN:DAYLIGHT
TZOFFSETFROM:+0100
TZOFFSETTO:+0200
TZNAME:CEST
DTSTART:20260329T010000
END:DAYLIGHT
BEGIN:STANDARD
TZOFFSETFROM:+0200
TZOFFSETTO:+0100
TZNAME:CET
DTSTART:20261025T010000
END:STANDARD
BEGIN:DAYLIGHT
TZOFFSETFROM:+0100
TZOFFSETTO:+0200
TZNAME:CEST
DTSTART:20270328T010000
END:DAYLIGHT
BEGIN:STANDARD
TZOFFSETFROM:+0200
TZOFFSETTO:+0100
TZNAME:CET
DTSTART:20271031T010000
END:STANDARD
END:VTIMEZONE
BEGIN:VEVENT
DTSTART;TZID=Europe/Amsterdam:20260624T203000
DTEND;TZID=Europe/Amsterdam:20260624T223000
DTSTAMP:20260421T021012
CREATED:20251216T165219Z
LAST-MODIFIED:20251216T165219Z
UID:3513-1782333000-1782340200@observant.nl
SUMMARY:Izaline Calister & Ed Verhoeff  | JazzPodium Amersfoort
DESCRIPTION:Edison-winnares Izaline Calister is een zangeres die je niet alleen hoort\, maar voelt. Met haar warme stem\, onweerstaanbare charme en pakkende podiumpresentatie weet zij vanaf het eerste moment te boeien. Al bijna twintig jaar vormt zij een hecht duo met de veelzijdige gitarist Ed Verhoeff\, wiens kenmerkende sound en virtuoze spel het perfecte tegenwicht vormt voor haar warme stem. Samen vullen zij elkaar naadloos aan in een sprankelend samenspel. \nHun repertoire is even veelzijdig als tijdloos: eigen songs van Izaline\, originele composities en bijzondere vertolkingen van uiteenlopende stijlen. Izalines muziek is een betoverende fusie van de traditionele klanken van haar geboorte-eiland Curaçao\, jazz en Afro-Caraïbische ritmes. Met haar Papiamentstalige teksten – soms intiem en breekbaar\, dan weer uitbundig en dansbaar – verovert zij harten over de hele wereld. \nEen concert met Izaline Calister en Ed Verhoeff is een warme ontmoeting tussen stijlen en verhalen\, met een bijzondere bijdrage van een nog te onthullen special guest die voor extra muzikale magie zorgt. \nLine-up:\nIzaline Calister- zang\nEd Verhoeff-gitaren\nT.b.a – special guest \nDit optreden wordt mede mogelijk gemaakt door het Fonds Podiumkunsten. \nEntree € 10\,00 online | € 12\,50 aan de deur\nTickets zijn HIER verkrijgbaar
URL:https://observant.nl/evenement/izaline-calister-ed-verhoeff-jazzpodium-amersfoort/
CATEGORIES:Concertagenda,Evenement,Jazz
ATTACH;FMTTYPE=image/jpeg:https://observant.nl/wp-content/uploads/2025/11/Izaline-Calister-PhotobyRobGielen-1194.jpeg
END:VEVENT
BEGIN:VEVENT
DTSTART;VALUE=DATE:20260807
DTEND;VALUE=DATE:20260811
DTSTAMP:20260421T021012
CREATED:20260323T205036Z
LAST-MODIFIED:20260323T205036Z
UID:3575-1786060800-1786406399@observant.nl
SUMMARY:Topservant
DESCRIPTION:Topservant: een jong podium voor jonge makers die hun roots in Amersfoort hebben\, én voor nieuw artistiek talent dat de stad recent heeft verrijkt. Een plek voor ontmoeting\, inspiratie en observatie samen met de oudere garde. Want als de culturele podia in de stad schaars zijn\, bouwen wij er samen gewoon één bij\, een die een vervolg geeft op Zonen & Dochters\, op de Toekomst\, op Blauwdruk. \nBlauwdruk vormt al meer dan tien jaar een vruchtbare bodem voor jonge\, getalenteerde kunstenaars met een Amersfoortse hartslag. Jaar na jaar presenteert Blauwdruk een nieuwe lichting makers. Kunst leeft\, groeit\, beweegt. Veel kunstenaars zetten hun ontwikkeling voort\, soms met hulp van het netwerk dat Blauwdruk hen biedt. Uit het oog is hier niet uit het hart. Blauwdruk blijft de kunstenaars volgen\, want het is juist het volgen van de ontwikkeling van een kunstenaar\, wat de waarde van het werk inzichtelijk maakt. En daarbij houdt het ook de gevestigde Amersfoortse kunstenaars in het oog. Wij hebben uiteindelijk elkaar nodig. \nDus wat gebeurt er nu? Waar staan deze makers nu? Welke richting is hun werk uitgegaan? En vooral: waar kunnen we hun werk vandaag de dag zien? Topservant biedt het publiek de mogelijkheid om de kunstenaars te volgen in hun ontwikkeling. Topservant biedt de kunstenaars de mogelijkheid om hun netwerk uit te breiden. De zomermanifestatie biedt een podium voor de kunstenaars uit alle generaties. \nDe Observant biedt hiervoor een plek in de zomermaanden om deze vragen te beantwoorden. Die kans grepen Martin Honings en Ron Jagers met beide handen aan. Inmiddels is ook de stichting StadsGalerij doordrongen van de waarde van Topservant en wordt de manifestatie georganiseerd onder hun auspiciën. \nOp de website van ‘Wij Amersfoort’ lees je een verslag van vorig jaar.
URL:https://observant.nl/evenement/topservant-2/
CATEGORIES:Concertagenda,Evenement,Expositie
ATTACH;FMTTYPE=image/png:https://observant.nl/wp-content/uploads/2025/06/Topservant.png
END:VEVENT
END:VCALENDAR