BEGIN:VCALENDAR
VERSION:2.0
PRODID:-//Observant Amersfoort - ECPv6.15.20//NONSGML v1.0//EN
CALSCALE:GREGORIAN
METHOD:PUBLISH
X-WR-CALNAME:Observant Amersfoort
X-ORIGINAL-URL:https://observant.nl
X-WR-CALDESC:Evenementen voor Observant Amersfoort
REFRESH-INTERVAL;VALUE=DURATION:PT1H
X-Robots-Tag:noindex
X-PUBLISHED-TTL:PT1H
BEGIN:VTIMEZONE
TZID:UTC
BEGIN:STANDARD
TZOFFSETFROM:+0000
TZOFFSETTO:+0000
TZNAME:UTC
DTSTART:20220101T000000
END:STANDARD
END:VTIMEZONE
BEGIN:VEVENT
DTSTART;TZID=UTC:20230910T150000
DTEND;TZID=UTC:20230910T170000
DTSTAMP:20260421T080602
CREATED:20230811T220000Z
LAST-MODIFIED:20240529T114019Z
UID:1513-1694358000-1694365200@observant.nl
SUMMARY:Banda Matatu | FLUOR gaat stappen
DESCRIPTION:FLUOR gaat weer stappen! Ze zetten de kroegentocht voort bij Observant. Daar combineert Banda Matatu afrobeat\, chakacha en afrojazz samen met andere stijlen tot een kleurrijk en energiek geluid. \nToegang is gratis.
URL:https://observant.nl/evenement/banda-matatu-fluor-gaat-stappen-2/
LOCATION:Observant
CATEGORIES:Concertagenda,Evenement,Zomerconcerten
ATTACH;FMTTYPE=image/jpeg:https://observant.nl/wp-content/uploads/2024/05/Banda-Matatu0.jpg
END:VEVENT
BEGIN:VEVENT
DTSTART;TZID=UTC:20230906T203000
DTEND;TZID=UTC:20230906T223000
DTSTAMP:20260421T080602
CREATED:20230811T220000Z
LAST-MODIFIED:20240529T124520Z
UID:1504-1694032200-1694039400@observant.nl
SUMMARY:Gianna Tam & La Banda | Dias Latin Night
DESCRIPTION:Gianna Tam & La Banda zijn op een missie en klaar om elk festival en podium te laten exploderen met hun vernieuwende mix van Latin-stromingen als zouk\, reggaeton\, New York salsa met eigentijdse pop en hip-hop beats. \nDeze live formatie\, geleid door de talentvolle percussioniste\, zangeres en drumster Gianna Tam\, weet hoe ze elk publiek tot een climax moet laten komen met hun vurige percussie ritmes en grooves. Dit alles samengesmeed door de meest toonaangevende internationale latinproducers en -arrangeurs van dit moment. \nNa haar gastoptredens bij bekende artiesten als Ladies of Soul\, Candy Dulfer\, Jett Rebel\, Arp Frique\, Sven Hammond en Trijntje Oosterhuis is Gianna nu klaar om met haar eigen band te gaan knallen. Dit is een spektakel dat je niet mag missen. Laat je uitdagen door de krachtige line-up van Gianna Tam & La Banda! \nLine up:\nzang/timbales – Gianna Tam (NL/Suriname) | drums – Urvin Doornkamp (Suriname) | bass – Samuel Ruiz (Venezuela) | keys – Laura Beatriz (Cuba) | keys – Sophie Anglionin (NL/Martinique) | percussion – Erik Larrea (Spanje | trompet – Chucky Cordero (Venezuela) \nTickets zijn HIER verkrijgbaar\nEntree € 10\,00 online | € 12\,50 aan de deur
URL:https://observant.nl/evenement/gianna-tam-la-banda-dias-latin-night/
LOCATION:Observant
CATEGORIES:Concertagenda,Evenement,Latin
ATTACH;FMTTYPE=image/jpeg:https://observant.nl/wp-content/uploads/2024/05/Gianna-Tam-La-Banda-2.jpg
END:VEVENT
BEGIN:VEVENT
DTSTART;TZID=UTC:20230903T150000
DTEND;TZID=UTC:20230903T170000
DTSTAMP:20260421T080602
CREATED:20230621T220000Z
LAST-MODIFIED:20240529T114058Z
UID:1502-1693753200-1693760400@observant.nl
SUMMARY:Bakelied | Binnenplaatsconcert
DESCRIPTION:Als alles om muziek draait…\nVier muzikanten met een voorliefde voor Nederlandstalige liedjes! \nTickets zijn HIER verkrijgbaar \nMet accordeon\, contrabas\, gitaar & percussie weten ze een groot geluid neer te zetten en wisselen ze de zang voortdurend af.\nAl jaren spelen ze bij Joris Linssen & Caramba en barsten nog steeds van de energie! Ze nemen je mee op een muzikale zoektocht naar vergeten liedjes. The Scene\, Jacques Brel\, Froukje\, De Dijk\, Willeke Alberti\, Liesbeth List\, Klein Orkest\, BLØF\, Polle Eduard\, Suzan & Freek etc… Alles gespeeld met een diepe buiging voor het origineel en een aanstekelijk enthousiasme… kom het zien! \nDjem van Dijk – percussie & zang\nMarcel van der Schot – accordeon & zang\nErik van Loo – contrabas & zang\nKees van den Hoogen – gitaar & zang
URL:https://observant.nl/evenement/bakelied-binnenplaatsconcert/
LOCATION:Observant
CATEGORIES:Concertagenda,Evenement,Pop,Singer Songwriter,Zomerconcerten
ATTACH;FMTTYPE=image/jpeg:https://observant.nl/wp-content/uploads/2023/06/bakelied-kusje16-9.jpg
END:VEVENT
END:VCALENDAR