BEGIN:VCALENDAR
VERSION:2.0
PRODID:-//Observant Amersfoort - ECPv6.15.20//NONSGML v1.0//EN
CALSCALE:GREGORIAN
METHOD:PUBLISH
X-WR-CALNAME:Observant Amersfoort
X-ORIGINAL-URL:https://observant.nl
X-WR-CALDESC:Evenementen voor Observant Amersfoort
REFRESH-INTERVAL;VALUE=DURATION:PT1H
X-Robots-Tag:noindex
X-PUBLISHED-TTL:PT1H
BEGIN:VTIMEZONE
TZID:UTC
BEGIN:STANDARD
TZOFFSETFROM:+0000
TZOFFSETTO:+0000
TZNAME:UTC
DTSTART:20220101T000000
END:STANDARD
END:VTIMEZONE
BEGIN:VEVENT
DTSTART;TZID=UTC:20231018T203000
DTEND;TZID=UTC:20231018T223000
DTSTAMP:20260421T202117
CREATED:20230926T220000Z
LAST-MODIFIED:20240529T114146Z
UID:1516-1697661000-1697668200@observant.nl
SUMMARY:CaboCubaJazz | Latin
DESCRIPTION:Dit swingende ensemble is binnenkort op tournee in het Midden-Oosten\, maar eerst komen zij natuurlijk langs in Observant\, waar zij naast de geliefde hits ook splinternieuw repertoire laten horen: première time! Melancholie van de Kaapverdische eilanden\, de opwinding van de Cubaanse rumba plus vernieuwende jazz en West-Afrikaanse ritmes: het komt allemaal samen in de muziek van CaboCubaJazz. Melodieën en ritmes vliegen heen en weer en houden de luisteraars zo bezig dat ze maar één ontsnappingsroute uit het labyrint hebben: dansen! \nDe band werd opgericht door percussionist Nils Fischer\, bekend van onder andere Timbazo en Nueva Manteca\, en pianist Carlos Matos\, ambassadeur van de Kaapverdische muziek in Europa. De musici zijn afkomstig uit onder meer Kaapverdië\, Spanje en Venezuela. Na razend enthousiaste reacties op hun albums volgden succesvolle optredens op onder meer het Havana Jazz Festival\, Borneo Jazz en North Sea Jazz. \nLine-up\nJèryh Luz – Kaapverdië (vocals)\nCarlos Matos – Kaapverdië (piano)\nNils Fischer – Duitsland (percussie)\nYerman Aponte – Venezuela (bas)\nLeonid Muñoz – Cuba (drums)\nPablo Martínez – Spanje (trombone) \nTickets zijn HIER verkrijgbaar\nEntree € 10\,00 online | € 12\,50 aan de deur
URL:https://observant.nl/evenement/cabocubajazz-latin/
LOCATION:Observant
CATEGORIES:Concertagenda,Evenement,Latin
ATTACH;FMTTYPE=image/jpeg:https://observant.nl/wp-content/uploads/2024/05/CaboCubaJazz-ft.-Jeryh-Luz-foto-Marcel-Boshuizen-Aangepast.jpg
END:VEVENT
BEGIN:VEVENT
DTSTART;TZID=UTC:20231011T203000
DTEND;TZID=UTC:20231011T223000
DTSTAMP:20260421T202117
CREATED:20230811T220000Z
LAST-MODIFIED:20240529T113631Z
UID:1507-1697056200-1697063400@observant.nl
SUMMARY:Alexander Beets | Tribute to Stanley Turrentine | JazzPodium Amersfoort
DESCRIPTION:Voor het JazzPodium Amersfoort hebben de broers Marius en Alexander Beets het initiatief genomen om enkele avonden geheel te wijden aan legendarische musici uit de jazz. Deze avond staat tenorsaxofonist Stanley Turrentine centraal bij Stadspodium Observant. \nTijdens deze avonden wordt niet alleen muziek gespeeld van deze ‘Legends’\, maar wordt ook verteld over de artiest\, zijn hoogtepunten en het genre. Marius maakt de arrangementen en stelt samen met Alexander het verhaal samen. Per avond worden andere gastmusici uitgenodigd. \nTenorsaxofonist Stanley Turrentine\, bijnaam “The Sugar Man”\, werd gekenmerkt door zijn lekkere\, kabbelende toon\, geworteld in de blues en zijn manier van werken met soul en verbeelding. Hij legde zijn muziek vast op talloze manieren\, maar werd het meest bekend met zijn Blue Note soul-jazz opnames in de jaren ’60. Ook maakte hij nog een gedaantewisseling naar de populaire fusionjazz in de vroege jaren ’70. In de jaren ‘80 en ‘90 keerde hij terug naar de jazz. \nTickets zijn HIER verkrijgbaar\nEntree € 7\,00 online | € 8\,50 aan de deur
URL:https://observant.nl/evenement/alexander-beets-tribute-to-stanley-turrentine-jazzpodium-amersfoort/
LOCATION:Observant
CATEGORIES:Concertagenda,Evenement,Jazz
ATTACH;FMTTYPE=image/jpeg:https://observant.nl/wp-content/uploads/2024/05/Alexander-Beets-fotografie-www.denozem.com_-scaled-1.jpg
END:VEVENT
BEGIN:VEVENT
DTSTART;TZID=UTC:20230927T203000
DTEND;TZID=UTC:20230927T223000
DTSTAMP:20260421T202117
CREATED:20230811T220000Z
LAST-MODIFIED:20240529T130233Z
UID:1506-1695846600-1695853800@observant.nl
SUMMARY:Yoràn Vroom | Group Of Friends | JazzPodium Amersfoort
DESCRIPTION:Yoràn Vroom uit Amsterdam is een van de meest allround jazzdrummers van dit moment. Hij weet kaseko\, jazz en West-Afrikaanse ritmes perfect te mixen. Vroom begon op zeer jonge leeftijd met drummen. Een belangrijk deel van zijn muzikale ontwikkeling schrijft hij toe aan zijn studie drums bij de Surinaams-Nederlandse drummeester Eddy Veldman en West-Afrikaanse percussie bij slagwerkgrootheid Ponda O’Bryan. \nGroup Of Friends is een collectief van getalenteerde musici die zowel actief zijn in Nederland als daarbuiten\, met ieder een specialisme wat hun positie in de scene uniek heeft gemaakt. Met collectieve improvisatie als gemene deler geven de musici hun eigen interessante kijk op het repertoire van Vroom met als doel zowel uitvoerenden als luisteraars te raken. \nLine up:\nYoràn Vroom – drums\nItai Weismann – EWI Yariv Vroom – Allround Percussion\nTimothy Banchet – Piano/Keys\nFantison Araby – Mandinka Percussion\nNathaniel Klumperbeek – bass \nTickets zijn HIER verkrijgbaar\nEntree € 7\,00 online | € 8\,50 aan de deur
URL:https://observant.nl/evenement/yoran-vroom-group-of-friends-jazzpodium-amersfoort/
LOCATION:Observant
CATEGORIES:Concertagenda,Evenement,Jazz
ATTACH;FMTTYPE=image/jpeg:https://observant.nl/wp-content/uploads/2023/08/RichardJanssen_20230311_03-Yoran-Vrooms-Group-of-Friends-Aangepast.jpg
END:VEVENT
BEGIN:VEVENT
DTSTART;TZID=UTC:20230920T203000
DTEND;TZID=UTC:20230920T223000
DTSTAMP:20260421T202117
CREATED:20230812T220000Z
LAST-MODIFIED:20240529T125347Z
UID:1514-1695241800-1695249000@observant.nl
SUMMARY:La Reunión | Latin
DESCRIPTION:Het jonge\, internationale latincollectief La Reunión is de nieuwste trots van het conservatorium in Rotterdam\, Codarts. Deze band met getalenteerde studenten van Codarts’ wereldmuziekafdeling is opgericht door Daniela Rivera uit Costa Rica. Zij spelen Cubaanse muziek met een bijzondere\, verfrissende sound. Met hun originele arrangementen vermengen ze het geluid van altviool en fluit met de ritmesectie. La Reunion brengt traditionele Cubaanse muziek en moderne salsa- en timba-stijlen. Dansen\, dansen\, dansen!!! \nLine up\nZang: Sophie Nakou\nAltviool en arrangeren: Daniela Rivera\nFluit: Hugrún Sigurðardóttir\nTimbales: Gio Molinari\nCongas: Manel Chust\nBas: Mauricio Mendez\nPiano: David Vaamond \nTickets zijn HIER verkrijgbaar\nEntree € 10\,00 online | € 12\,50 aan de deur
URL:https://observant.nl/evenement/la-reunion-latin/
LOCATION:Observant
CATEGORIES:Concertagenda,Evenement,Latin
ATTACH;FMTTYPE=image/jpeg:https://observant.nl/wp-content/uploads/2023/08/La-Reunion-fotograaf-Daniela-Rivera-Aangepast.jpg
END:VEVENT
BEGIN:VEVENT
DTSTART;TZID=UTC:20230913T000000
DTEND;TZID=UTC:20230913T000000
DTSTAMP:20260421T202117
CREATED:20230811T220000Z
LAST-MODIFIED:20240529T115329Z
UID:1505-1694563200-1694563200@observant.nl
SUMMARY:Egle Petrosiute | JazzPodium Amersfoort
DESCRIPTION:De charismatische en avontuurlijke zangeres met een warm eigen geluid\, Egle Petrosiute heeft zojuist haar debuutalbum Bird’s Notes uitgebracht met de iconische Braziliaanse drummer Kiko Freitas (Best Drummer in World Music\, 2019\, Modern Drummer Magazine). Ze is een van de weinige allround jazzzangeressen in Nederland die diep geworteld is in de jazztraditie\, maar met passie de moderne manieren van jazzzang verkent. Ontroerende teksten? Ja. Zingen zonder woorden? Ja. Virtuoos instrumentaal? Kom maar op. Groovy? Natuurlijk. Diepgaande ballads? Ja graag. \nNaast het zingen in verschillende internationale projecten\, van traditionele\, hedendaagse\, Braziliaanse jazz\, fusioncollectieven tot instrumentaal virtuoze orkestarrangementen\, is ze zelf ook een capabele songwriter\, arrangeur\, tekstschrijver en producer. Op deze avond speelt ze zowel de beste nummers van Bird’s Notes als nieuw materiaal waar ze aan werkt voor haar volgende album. Hartverwarmende melodieën\, strakke groovy ritmes\, soulvolle en ontroerende zang met een all-star jazzband. \nLine up:\nEgle Petrosiute – zang\nHans Vroomans – piano\, keyboard\nMatheus Nicolaiewsky – bassen\nTim Hennekes – drums \nTickets zijn HIER verkrijgbaar\nEntree € 7\,00 online | € 8\,50 aan de deur
URL:https://observant.nl/evenement/egle-petrosiute-jazzpodium-amersfoort/
LOCATION:Observant
CATEGORIES:Concertagenda,Evenement,Jazz
ATTACH;FMTTYPE=image/jpeg:https://observant.nl/wp-content/uploads/2024/05/Egle-Petrosiute-4.jpg
END:VEVENT
BEGIN:VEVENT
DTSTART;TZID=UTC:20230910T150000
DTEND;TZID=UTC:20230910T170000
DTSTAMP:20260421T202117
CREATED:20230811T220000Z
LAST-MODIFIED:20240529T114019Z
UID:1513-1694358000-1694365200@observant.nl
SUMMARY:Banda Matatu | FLUOR gaat stappen
DESCRIPTION:FLUOR gaat weer stappen! Ze zetten de kroegentocht voort bij Observant. Daar combineert Banda Matatu afrobeat\, chakacha en afrojazz samen met andere stijlen tot een kleurrijk en energiek geluid. \nToegang is gratis.
URL:https://observant.nl/evenement/banda-matatu-fluor-gaat-stappen-2/
LOCATION:Observant
CATEGORIES:Concertagenda,Evenement,Zomerconcerten
ATTACH;FMTTYPE=image/jpeg:https://observant.nl/wp-content/uploads/2024/05/Banda-Matatu0.jpg
END:VEVENT
BEGIN:VEVENT
DTSTART;TZID=UTC:20230906T203000
DTEND;TZID=UTC:20230906T223000
DTSTAMP:20260421T202117
CREATED:20230811T220000Z
LAST-MODIFIED:20240529T124520Z
UID:1504-1694032200-1694039400@observant.nl
SUMMARY:Gianna Tam & La Banda | Dias Latin Night
DESCRIPTION:Gianna Tam & La Banda zijn op een missie en klaar om elk festival en podium te laten exploderen met hun vernieuwende mix van Latin-stromingen als zouk\, reggaeton\, New York salsa met eigentijdse pop en hip-hop beats. \nDeze live formatie\, geleid door de talentvolle percussioniste\, zangeres en drumster Gianna Tam\, weet hoe ze elk publiek tot een climax moet laten komen met hun vurige percussie ritmes en grooves. Dit alles samengesmeed door de meest toonaangevende internationale latinproducers en -arrangeurs van dit moment. \nNa haar gastoptredens bij bekende artiesten als Ladies of Soul\, Candy Dulfer\, Jett Rebel\, Arp Frique\, Sven Hammond en Trijntje Oosterhuis is Gianna nu klaar om met haar eigen band te gaan knallen. Dit is een spektakel dat je niet mag missen. Laat je uitdagen door de krachtige line-up van Gianna Tam & La Banda! \nLine up:\nzang/timbales – Gianna Tam (NL/Suriname) | drums – Urvin Doornkamp (Suriname) | bass – Samuel Ruiz (Venezuela) | keys – Laura Beatriz (Cuba) | keys – Sophie Anglionin (NL/Martinique) | percussion – Erik Larrea (Spanje | trompet – Chucky Cordero (Venezuela) \nTickets zijn HIER verkrijgbaar\nEntree € 10\,00 online | € 12\,50 aan de deur
URL:https://observant.nl/evenement/gianna-tam-la-banda-dias-latin-night/
LOCATION:Observant
CATEGORIES:Concertagenda,Evenement,Latin
ATTACH;FMTTYPE=image/jpeg:https://observant.nl/wp-content/uploads/2024/05/Gianna-Tam-La-Banda-2.jpg
END:VEVENT
BEGIN:VEVENT
DTSTART;TZID=UTC:20230903T150000
DTEND;TZID=UTC:20230903T170000
DTSTAMP:20260421T202117
CREATED:20230621T220000Z
LAST-MODIFIED:20240529T114058Z
UID:1502-1693753200-1693760400@observant.nl
SUMMARY:Bakelied | Binnenplaatsconcert
DESCRIPTION:Als alles om muziek draait…\nVier muzikanten met een voorliefde voor Nederlandstalige liedjes! \nTickets zijn HIER verkrijgbaar \nMet accordeon\, contrabas\, gitaar & percussie weten ze een groot geluid neer te zetten en wisselen ze de zang voortdurend af.\nAl jaren spelen ze bij Joris Linssen & Caramba en barsten nog steeds van de energie! Ze nemen je mee op een muzikale zoektocht naar vergeten liedjes. The Scene\, Jacques Brel\, Froukje\, De Dijk\, Willeke Alberti\, Liesbeth List\, Klein Orkest\, BLØF\, Polle Eduard\, Suzan & Freek etc… Alles gespeeld met een diepe buiging voor het origineel en een aanstekelijk enthousiasme… kom het zien! \nDjem van Dijk – percussie & zang\nMarcel van der Schot – accordeon & zang\nErik van Loo – contrabas & zang\nKees van den Hoogen – gitaar & zang
URL:https://observant.nl/evenement/bakelied-binnenplaatsconcert/
LOCATION:Observant
CATEGORIES:Concertagenda,Evenement,Pop,Singer Songwriter,Zomerconcerten
ATTACH;FMTTYPE=image/jpeg:https://observant.nl/wp-content/uploads/2023/06/bakelied-kusje16-9.jpg
END:VEVENT
END:VCALENDAR