BEGIN:VCALENDAR
VERSION:2.0
PRODID:-//Observant Amersfoort - ECPv6.15.20//NONSGML v1.0//EN
CALSCALE:GREGORIAN
METHOD:PUBLISH
X-ORIGINAL-URL:https://observant.nl
X-WR-CALDESC:Evenementen voor Observant Amersfoort
REFRESH-INTERVAL;VALUE=DURATION:PT1H
X-Robots-Tag:noindex
X-PUBLISHED-TTL:PT1H
BEGIN:VTIMEZONE
TZID:UTC
BEGIN:STANDARD
TZOFFSETFROM:+0000
TZOFFSETTO:+0000
TZNAME:UTC
DTSTART:20230101T000000
END:STANDARD
END:VTIMEZONE
BEGIN:VEVENT
DTSTART;TZID=UTC:20241204T203000
DTEND;TZID=UTC:20241204T223000
DTSTAMP:20260423T150011
CREATED:20240903T134352Z
LAST-MODIFIED:20240903T134352Z
UID:2200-1733344200-1733351400@observant.nl
SUMMARY:La Mafia da Gozadera | Dias Latin Night
DESCRIPTION:Maak je klaar voor een onvergetelijke avond vol ritme\, passie en plezier met La Mafia da Gozadera! Deze energieke band\, bestaat uit 11 getalenteerde studenten uit Amsterdam en brengt de heetste salsa beats naar elk podium. Hun optredens zijn niet zomaar concerten; ze zijn een feestje dat je zintuigen prikkelt en je laat dansen. \nOf je nu een doorgewinterde salsa danser bent of gewoon zin hebt in een avond vol goede muziek en gezelligheid\, La Mafia da Gozadera zorgt dat jij je vermaakt. Laat je meevoeren door hun aanstekelijke ritmes en geniet van een avond die je niet wilt missen! \nEntree € 12\,50 tot dinsdag 12:00 uur (online)\, € 15\,00 vanaf dinsdag 12:00 uur (online en aan de deur)\nTickets zijn HIER verkrijgbaar
URL:https://observant.nl/evenement/la-mafia-da-gozadera-dias-latin-night/
CATEGORIES:Concertagenda,Latin
ATTACH;FMTTYPE=image/jpeg:https://observant.nl/wp-content/uploads/2024/09/la-mafia-da-gozadera-LR.jpg
END:VEVENT
BEGIN:VEVENT
DTSTART;TZID=UTC:20241211T203000
DTEND;TZID=UTC:20241211T223000
DTSTAMP:20260423T150011
CREATED:20240928T071046Z
LAST-MODIFIED:20240928T071046Z
UID:2243-1733949000-1733956200@observant.nl
SUMMARY:Michael Varekamp & the Big Easy | JPA
DESCRIPTION:Trompettist & zanger Michael Varekamp is tien jaar als hij een plaat vindt in de platenkast van zijn vader: The Townhall Concert van Louis Armstrong. Hij zet hem op en is direct verkocht. Hij kan alleen maar denken ‘dat wil ik ook!’. Wat volgt is een intensieve tijd van proberen\, luisteren\, oefenen en opnieuw proberen. Tien jaar later reist hij de wereld over als jazztrompettist en Louis Armstrong-kenner. The Big Easy duikt met magistrale musici als Jerome Hol en drummer Erik Kooger in de muziek uit New Orleans. Muziek recht uit het hart. Met een lach en een traan. \nMomenteel trekt hij volle zalen met theaterprogramma’s over o.a. Miles Davis\, Louis Armstrong en Billie Holiday. Hij tourde over de gehele wereld met Fra Fra Sound\, Dutch Swing College Band en Miles Davis alumnus Sonny Fortune. Hij trad op in Birdland en Jazz at Lincoln Center New York en speelde onlangs nog Branford Marsalis. Hij ontving in Japan de Kobe Award voor buitengewoon talent en speelt nog immer veelvuldig in het buitenland. \n‘Michael Varekamp has a Astonishing sound and beautiful phrasing…’ –Le Monde\n‘Michael Varekamp speelt net zo grenzeloos als Louis Armstrong..’ -NRC\n‘Trompettist des vaderlands’ -Jazzism 2024 \nLine -up\nMichael Varekamp – Trompet & Vocals\nWiboud Burkens – Hammondorgel\nJerome Hol – Gitaar\nHarry Emmery – Contrabas\nErik Kooger – Drums \nDit optreden wordt mede mogelijk gemaakt door het Fonds Podiumkunsten en het Nationaal PodiumPlan. \nEntree € 10\,00 (aan de deur € 12\,50)\nTickets zijn HIER verkrijgbaar
URL:https://observant.nl/evenement/michael-varekamp-the-big-easy-jpa/
CATEGORIES:Concertagenda,Jazz
ATTACH;FMTTYPE=image/jpeg:https://observant.nl/wp-content/uploads/2024/08/Michael-Varekamp-fotograaf-Piet-Gispen-scaled.jpg
END:VEVENT
BEGIN:VEVENT
DTSTART;TZID=UTC:20241218T203000
DTEND;TZID=UTC:20241218T223000
DTSTAMP:20260423T150011
CREATED:20240927T144706Z
LAST-MODIFIED:20241108T092432Z
UID:2231-1734553800-1734561000@observant.nl
SUMMARY:Latin Night Deluxe meets La Reunión
DESCRIPTION:Een keer per maand komt de crème de la crème van latin-muzikanten bij elkaar in de Observant. De gelauwerde percussionist en bandleider Nils Fischer brengt ze bij elkaar voor een onvergetelijke avond vol dans- en luisterplezier. Tropische muziek vanuit alle windstreken\, salsa en Música Cubana op zijn best. \nDeze keer presenteert hij het jonge\, internationale Latin collectief La Reunión rond violiste Daniela Rivera uit Costa Rica. Dit gezelschap speelt Cubaanse muziek met een bijzondere\, verfrissende sound. Met hun originele arrangementen vermengen ze het geluid van altviool en fluit met de ritmesectie. La Reunión brengt traditionele Cubaanse muziek en moderne salsa- en timba-stijlen. Dansen\, dansen\, dansen! \nLine-up:\nDaniela Rivera – viool\nJosé Villegas – zang\nHugrun Elfa – fluit\nMauricio Mendez – bas\nCarmen Martinez – congas\nGio Molinari – timbales\nDani Brands – piano\nNils Fischer – bongo \nEntree € 12\,50 tot dinsdag 12:00 uur (online)\, € 15\,00 vanaf dinsdag 12:00 uur (online en aan de deur)\nTickets zijn HIER verkrijgbaar
URL:https://observant.nl/evenement/latin-night-deluxe-2/
CATEGORIES:Concertagenda,Latin
ATTACH;FMTTYPE=image/jpeg:https://observant.nl/wp-content/uploads/2024/09/La-Reunion-fotograaf-Dani-Rivera.jpg
END:VEVENT
END:VCALENDAR