BEGIN:VCALENDAR
VERSION:2.0
PRODID:-//Observant Amersfoort - ECPv6.15.20//NONSGML v1.0//EN
CALSCALE:GREGORIAN
METHOD:PUBLISH
X-ORIGINAL-URL:https://observant.nl
X-WR-CALDESC:Evenementen voor Observant Amersfoort
REFRESH-INTERVAL;VALUE=DURATION:PT1H
X-Robots-Tag:noindex
X-PUBLISHED-TTL:PT1H
BEGIN:VTIMEZONE
TZID:UTC
BEGIN:STANDARD
TZOFFSETFROM:+0000
TZOFFSETTO:+0000
TZNAME:UTC
DTSTART:20240101T000000
END:STANDARD
END:VTIMEZONE
BEGIN:VEVENT
DTSTART;TZID=UTC:20250115T203000
DTEND;TZID=UTC:20250115T223000
DTSTAMP:20260423T132414
CREATED:20240928T071813Z
LAST-MODIFIED:20240928T071813Z
UID:2245-1736973000-1736980200@observant.nl
SUMMARY:⁠Davor Stehlik | JazzPodium Amersfoort
DESCRIPTION:Davor Stehlik behoort tot de nieuwe generatie jazzmuzikanten die zeer actief zijn in de Nederlandse jazzscene. Op het concert in Observant presenteert de gitarist zijn meest recente werk\, samen met zijn kwartet bestaande uit enkele van de meest vooraanstaande jonge Nederlandse jazzmuzikanten. \nDavor’s muziek is sterk geworteld in de jazztraditie. Davor haalt inspiratie uit veel verschillende plaatsen om zijn muziek te schrijven. Enkele van zijn muzikale helden zijn onder meer Peter Bernstein\, John Scofield\, Wynton Kelly\, Wes Montgomery\, Chico Buarque\, Cedar Walton\, Larry Goldings en John Coltrane. Het samenspel van zijn band genereert een gevoel van sterke verbondenheid en muzikale eenheid waardoor de muziek levendig\, fris en “in the moment” klinkt. \nDavor Stehlik – gitaar\nTimothy Banchet – piano\nCas Jiskoot – contrabas\nTim Hennekes – drums \nDit optreden wordt mede mogelijk gemaakt door het Fonds Podiumkunsten en het Nationaal PodiumPlan. \nEntree € 10\,00 (aan de deur € 12\,50)\nTickets zijn HIER verkrijgbaar
URL:https://observant.nl/evenement/%e2%81%a0davor-stehlik-jazzpodium-amersfoort/
CATEGORIES:Concertagenda,Jazz
ATTACH;FMTTYPE=image/jpeg:https://observant.nl/wp-content/uploads/2024/08/Davor-Stehlik-scaled.jpg
END:VEVENT
BEGIN:VEVENT
DTSTART;TZID=UTC:20250122T203000
DTEND;TZID=UTC:20250122T223000
DTSTAMP:20260423T132414
CREATED:20241223T142353Z
LAST-MODIFIED:20250108T092537Z
UID:2537-1737577800-1737585000@observant.nl
SUMMARY:Latin Night Deluxe presents Quinteto Caney
DESCRIPTION:Een keer per maand komt de crème de la crème van latin-muzikanten bij elkaar in de Observant. De gelauwerde percussionist en bandleider Nils Fischer brengt ze bij elkaar voor een onvergetelijke avond vol dans- en luisterplezier. Tropische muziek vanuit alle windstreken\, Salsa en Música Cubana op zijn best. \nDeze keer neemt hij de muzikanten van Quinteto Caney mee. Nils Fischer presenteert deze band onder leiding van Pedro Luis Cosme met Oscar Cordero (trompet) en Nils zelf op de percussie. \nQuinteto Caney speelt een mix van traditionele Cubaanse trova\, bolero\, cha cha chá\, guaracha en son met frisse arrangementen in de stijl van Buena Vista Social Club\, Compay Segundo en Vieja Trova Santiaguera. Dit alles aangevuld met prachtige eigen composities\, verrijkt met moderne elementen. Quinteto Caney speelt precies zoals in het ‘Casa de la Trova’ in Santiago te horen is. \nLine-up:\nPedro Luis Cosme\, bas\nOscar Llorient: zang\, percussie\nAlvaro Pinto Lyon: tres gitaar\nNils Fischer: percussie\nOscar Cordero: trompet \nEntree € 12\,50 tot dinsdag 12:00 uur (online)\, € 15\,00 vanaf dinsdag 12:00 uur (online en aan de deur). \nTickets zijn HIER verkrijgbaar \nGekochte kaartjes kunnen niet geretourneerd worden. \nLet op: bij latinconcerten is slechts beperkte zitplaats.
URL:https://observant.nl/evenement/2537/
CATEGORIES:Latin
ATTACH;FMTTYPE=image/jpeg:https://observant.nl/wp-content/uploads/2024/12/Trio-Caney-credit-sera-koolmees-Aangepast.jpg
END:VEVENT
BEGIN:VEVENT
DTSTART;TZID=UTC:20250129T203000
DTEND;TZID=UTC:20250129T223000
DTSTAMP:20260423T132414
CREATED:20240927T141047Z
LAST-MODIFIED:20241218T114251Z
UID:2223-1738182600-1738189800@observant.nl
SUMMARY:Hurricane 5 | Brazilian Vibes | JazzPodium Amersfoort
DESCRIPTION:Tenorsaxofonist Alexander Beets speelt regelmatig met zijn quintet bij Observant. Steeds brengt hij een eerbetoon aan een van de vele legendarische jazzartiesten die de geschiedenis rijk is. Deze avond brengt hij een eerbetoon aan de bossanova en de Braziliaanse artiesten die dit genre grootgemaakt hebben. Hij neemt daarvoor onder andere zangeres Fleurine en trompettiste Charlie Philips. \nDe Nederlandse zangeres en componiste Fleurine stond al meermaals op Montreux Jazz en North Sea Jazz en brengt haar Braziliaanse droom nu ook naar Amersfoort. Haar album Meant To Be uit 1996 was het best verkochte Nederlandse jazzdebuut van dat decennium. Ze werkte samen met grote namen als Roy Hargrove\, Tom Harrell\, Christian McBride\, Brad Mehldau en Lee Konitz. \nCharlie Philips begon op haar zevende met trompet spelen in de fanfare van het dorp waar ze opgroeide: Zuiderwoude. Haar liefde voor de jazz ontstond toen ze op de middelbare school terecht kwam in de latin jazz bigband. Dit leidde tot haar eigen bandproject Freakuency. Inmiddels studeerde ze aan het Junior Jazz College en trad ze al op in het Bimhuis en Concertgebouw. \nAlexander Beets is een muzikale all – rounder\, die in de traditie speelt van de legendarische rietblazers Stanley Turrentine\, Sonny Rollins en Houston Person . Alexander ‘Hurricane’ Beets is één van de zeldzame tenorhelden die Nederland rijk is (Parool). Hij maakte furore met de Beets Brothers en werkte met talloze kopstukken uit de (inter)nationale jazz. \nEntree € 10\,00 (aan de deur € 12\,50)\nTickets zijn HIER verkrijgbaar
URL:https://observant.nl/evenement/hurricane-5-jazzpodium-amersfoort-2/
CATEGORIES:Concertagenda,Jazz
ATTACH;FMTTYPE=image/jpeg:https://observant.nl/wp-content/uploads/2024/09/Fleurine-fotograaf-Juliana-Flaskamp-1-Aangepast.jpg
END:VEVENT
END:VCALENDAR