BEGIN:VCALENDAR
VERSION:2.0
PRODID:-//Observant Amersfoort - ECPv6.15.20//NONSGML v1.0//EN
CALSCALE:GREGORIAN
METHOD:PUBLISH
X-ORIGINAL-URL:https://observant.nl
X-WR-CALDESC:Evenementen voor Observant Amersfoort
REFRESH-INTERVAL;VALUE=DURATION:PT1H
X-Robots-Tag:noindex
X-PUBLISHED-TTL:PT1H
BEGIN:VTIMEZONE
TZID:UTC
BEGIN:STANDARD
TZOFFSETFROM:+0000
TZOFFSETTO:+0000
TZNAME:UTC
DTSTART:20240101T000000
END:STANDARD
END:VTIMEZONE
BEGIN:VEVENT
DTSTART;TZID=UTC:20250212T203000
DTEND;TZID=UTC:20250212T223000
DTSTAMP:20260423T114301
CREATED:20241108T095546Z
LAST-MODIFIED:20241108T095546Z
UID:2318-1739392200-1739399400@observant.nl
SUMMARY:Sjoerd van Eijck's OAK | JazzPodium Amersfoort
DESCRIPTION:Pianist Sjoerd van Eijk heeft de afgelopen jaren zijn stem laten horen in de Nederlandse jazzscene. Zijn lyrische speelstijl kenmerkt zich door de klassieke benadering van de piano\, waarbij de hang naar schoonheid in elke noot te vinden is. Zijn composities en speelstijl getuigen van gedegen vakmanschap\, waarbij hij opvalt door zijn toucher en rijke kleurenpalet. \nOAK staat bekend om hun unieke en veelzijdige geluid\, waarin invloeden uit de vrije improvisatie\, klassieke muziek (van Bach tot Ravel)\, minimalisme en Scandinavisch melodische jazz samenkomen. Het resultaat is intieme en lyrische muziek die de luisteraar meevoert naar verschillende werelden. Naast Sjoerd bestaat OAK uit trompettist Koen Smits\, bassist Nathan Wouters en drummer Willem Romers. \nIn 2021 brachten zij hun debuutalbum “Aurora” uit op het gerenommeerde jazzlabel ZenneZ Records en ontvingen lovende recensies van publiek\, podia en recescenten. Met hun tweede album gaat OAK verder op het pad van vernieuwing en avontuur. Dit album is een resultaat van een zoektocht naar een nieuwe sound en bevat een mix van oude en nieuwe invloeden. Geïnspireerd door muziek van Ennio Morricone uit de film “The Hateful Eight” dook Sjoerd in de wereld van de Franse componist Olivier Messiaen. Door zich te verdiepen in nieuwe compositietechnieken\, vond hij klanken die hem hielpen zijn composities op een andere manier vorm te geven. Het album werd in 2024 genomineerd voor een Edison Jazz Publieksprijs. \nEntree € 10\,00 (aan de deur € 12\,50)\nTickets zijn HIER verkrijgbaar
URL:https://observant.nl/evenement/sjoerd-van-eijcks-oak-jazzpodium-amersfoort/
CATEGORIES:Concertagenda,Jazz
ATTACH;FMTTYPE=image/jpeg:https://observant.nl/wp-content/uploads/2024/09/Sjoerd-van-Eijck-OAK-2023-by-Lenny-Oosterwijk-versie3.jpg
END:VEVENT
BEGIN:VEVENT
DTSTART;TZID=UTC:20250219T203000
DTEND;TZID=UTC:20250219T223000
DTSTAMP:20260423T114301
CREATED:20240927T144910Z
LAST-MODIFIED:20250130T103825Z
UID:2233-1739997000-1740004200@observant.nl
SUMMARY:Latin Night Deluxe met Descarga Timbera
DESCRIPTION:Een keer per maand komt de crème de la crème van latin-muzikanten bij elkaar in de Observant. Percussionist en bandleider Nils Fischer brengt ze bij elkaar voor een onvergetelijke avond vol dans- en luisterplezier. Tropische muziek vanuit alle windstreken\, Salsa en Música Cubana op zijn best. \nDeze keer staat hij op het podium met Descarga Timbera\, de zespersoons afsplitsing van de wervelende latinband Timbazo. Deze internationale groep\, met bandleden uit Latijns-Amerika\, Nederland en Duitsland\, geeft een vernieuwende twist aan Latin-muziek. heeft onlangs hun nieuwe album Otra Idea Más met groot succes gepresenteerd in uitverkochte zalen. De bandleden verenigingen de intensiteit van de Cubaanse timba met jazz en ‘salsa dura’. Trek je dansschoenen dus maar uit de kast!. \nLine-up:\nAlfonso Eduardo Herrera ‘El Coco’ – zang\, güiro\nNils Fischer – tumbadora\nLeonid Muñoz – paila\nOscar Cordero – trompet\nMarc Bischoff – piano\nSamuel Ruiz – bas \nEntree € 12\,50 tot dinsdag 12:00 uur (online)\, € 15\,00 vanaf dinsdag 12:00 uur (online en aan de deur)\nTickets zijn HIER verkrijgbaar \nGekochte kaartjes kunnen niet geretourneerd worden.\nLet op: bij latinconcerten is slechts beperkte zitplaats.
URL:https://observant.nl/evenement/latin-night-deluxe-3/
CATEGORIES:Concertagenda,Latin
ATTACH;FMTTYPE=image/jpeg:https://observant.nl/wp-content/uploads/2024/09/Descarga-Timbera-2-credit-Wijnand-Schouten-Aangepast.jpg
END:VEVENT
BEGIN:VEVENT
DTSTART;TZID=UTC:20250226T203000
DTEND;TZID=UTC:20250226T223000
DTSTAMP:20260423T114301
CREATED:20241108T100855Z
LAST-MODIFIED:20241108T100855Z
UID:2320-1740601800-1740609000@observant.nl
SUMMARY:The Pulitzers | JazzPodium Amersfoort
DESCRIPTION:Ken je dat gevoel dat alles klopt? Het gevoel van extase dat je ervaart wanneer je getuige bent van iets eerlijks\, iets moois\, iets geweldigs\, iets… dat recht uit het hart komt? Combineer juist dat gevoel met een mespuntje ranzigheid en een toefje funk en laat het sudderen tot een stoofpotje van rauwe\, zinderende soul. Precies deze muzikale mix is wat The Pulitzers voor ogen hebben\, sterker nog; het is DE reden van hun bestaan! \nKnallend en gewapend met rauwe Hammond en gitaar en voortgestuwd door smeuïge percussie en bonkende drums\, is The Pulitzers op een missie: het stoken van een vuur! Met hun vaardigheden en onfeilbaar gevoel voor lekkere\, stomende tunes zetten ze niet alleen zichzelf maar ook de luisteraar in vuur en vlam. \nDiep geworteld in de traditie van legendes als The Meters\, Jimmy McGriff en Booker T\, brengt dit collectief met gelijkgestemde zielen\, zelf geschreven songs met slecht één doel: je de hele nacht te laten dansen met een funky grijns op het gezicht. Dus reken op niks minder. Als deze vier toegewijde muzikanten samen spelen\, spatten de vonken er vanaf! \nThe Pulitzers zijn:\nFrank Montis – Hammond (o.a. Laura Vane & The Vipertones)\nBas van der Wal – gitaar (o.a. New Cool Collective)\nPhil Martin – percussie (o.a. Jazzinvaders\, Martin & Garp)\nSalle de Jonge – drums (o.a. Sabrina Starke) \nEntree € 10\,00 (aan de deur € 12\,50)\nTickets zijn HIER verkrijgbaar
URL:https://observant.nl/evenement/the-pulitzers-jazzpodium-amersfoort/
CATEGORIES:Concertagenda,Jazz
ATTACH;FMTTYPE=image/jpeg:https://observant.nl/wp-content/uploads/2024/09/The-Pulitzers-Press1.jpg
END:VEVENT
END:VCALENDAR