BEGIN:VCALENDAR
VERSION:2.0
PRODID:-//Observant Amersfoort - ECPv6.15.20//NONSGML v1.0//EN
CALSCALE:GREGORIAN
METHOD:PUBLISH
X-WR-CALNAME:Observant Amersfoort
X-ORIGINAL-URL:https://observant.nl
X-WR-CALDESC:Evenementen voor Observant Amersfoort
REFRESH-INTERVAL;VALUE=DURATION:PT1H
X-Robots-Tag:noindex
X-PUBLISHED-TTL:PT1H
BEGIN:VTIMEZONE
TZID:UTC
BEGIN:STANDARD
TZOFFSETFROM:+0000
TZOFFSETTO:+0000
TZNAME:UTC
DTSTART:20240101T000000
END:STANDARD
END:VTIMEZONE
BEGIN:VEVENT
DTSTART;VALUE=DATE:20250321
DTEND;VALUE=DATE:20250517
DTSTAMP:20260423T081459
CREATED:20250224T142107Z
LAST-MODIFIED:20250224T143226Z
UID:2678-1742515200-1747439999@observant.nl
SUMMARY:'Jazz For The Eyes #2' – Fotografie van Paolo Gant
DESCRIPTION:FOTOexpo202 presenteert met trots\, in de Observant te Amersfoort\, de expositie Jazz For The Eyes #2\, een bijzondere fototentoonstelling van fotograaf Paolo Gant. Van 21 maart tot en met 16 mei 2025 is deze indrukwekkende collectie jazzfoto’s te bewonderen aan het Stadhuisplein 7. \nOpening op 21 maart 2025\nWe nodigen u van harte uit voor de feestelijke opening op vrijdag 21 maart. De inloop start om 17:00 uur\, gevolgd door de officiële opening om 17:30 uur. Ter gelegenheid hiervan vindt een exclusief gesprek plaats tussen Paolo Gant en jazzkenner Jeroen de Valk\, auteur van de veelgeprezen biografie over Chet Baker. Dit boek is wereldwijd verschenen in onder andere het Engels\, Duits\, Hongaars\, Italiaans en Japans. \nEen unieke jazzervaring\nIn de binnenruimte van De Observant zijn fascinerende foto’s van Chet Baker te zien\, vastgelegd door Paolo Gant op 22 maart 1988\, nu precies 37 jaar geleden. Op de binnenplaats zijn daarnaast nog enkele bijzondere jazzfoto’s van zijn hand te bewonderen. Deze expositie brengt de magie van jazzmuziek tot leven in krachtige\, tijdloze beelden. \nKom en beleef de wereld van jazz door de lens van Paolo Gant. We kijken uit naar uw komst! \nLees HIER meer over Paolo Gant
URL:https://observant.nl/evenement/jazz-for-the-eyes-2-fotografie-van-paolo-gant/
CATEGORIES:Expositie
ATTACH;FMTTYPE=image/jpeg:https://observant.nl/wp-content/uploads/2025/02/PaoloGant-Expositie-2025-Final_Online.jpg
END:VEVENT
BEGIN:VEVENT
DTSTART;TZID=UTC:20250402T203000
DTEND;TZID=UTC:20250402T223000
DTSTAMP:20260423T081459
CREATED:20250317T144147Z
LAST-MODIFIED:20250324T130729Z
UID:2691-1743625800-1743633000@observant.nl
SUMMARY:Pedro Luis y su Caney | Dias Latin Night
DESCRIPTION:Pedro Luis y su Caney speelt een mix van traditionele trova\, bolero’s\, cha cha cha\, guaracha\, en populaireson\, gecombineerd met frisse arrangementen in de stijl van Buena Vista Social Club\, Compay Segundo en Vieja Trova Santiaguera. Dit alles wordt aangevuld met prachtige eigen composities\, verrijkt met moderne elementen zoals guajeo’s en tumba’os. De complete bezetting van Caney is volledig akoestisch\, precies zoals in het legendarische ‘Casa de la Trova’ in Santiago\, met mooie zang\, tres en gitaar\, contrabas\, bongó en trompet. \nKaarten zijn nu beschikbaar\, dus zorg dat je erbij bent! \nEntree € 12\,50 (aan de deur € 15\,00) \nTickets zijn HIER verkrijgbaar \nGekochte kaartjes kunnen niet geretourneerd worden. \nLet op: bij latinconcerten is slechts beperkte zitplaats.
URL:https://observant.nl/evenement/pedro-luis-y-su-caney-dias-latin-night/
CATEGORIES:Concertagenda,Latin
ATTACH;FMTTYPE=image/jpeg:https://observant.nl/wp-content/uploads/2025/03/Pedro-Luis-y-su-Caney.jpeg
END:VEVENT
BEGIN:VEVENT
DTSTART;TZID=UTC:20250409T203000
DTEND;TZID=UTC:20250409T223000
DTSTAMP:20260423T081459
CREATED:20241108T112010Z
LAST-MODIFIED:20250116T150905Z
UID:2324-1744230600-1744237800@observant.nl
SUMMARY:Liquid Spirits | JazzPodium Amersfoort
DESCRIPTION:Liquid Spirits heeft een indrukwekkende start gemaakt met hun album YEARS\, dat onder andere de Sublime Award voor Beste Album won\, een nominatie ontving voor het Edison Jazz Album van het Jaar\, en inmiddels meer dan 4 miljoen streams op Spotify heeft behaald. Ze zitten echter niet stil. Na de release van de singles ‘Let Love Run These Streets’\, ‘Pure Gold’\, ‘Better Than This’\, ‘Might Just Make It’\, ‘Cold’ en hun nieuwste track ‘Man of the Hour’\, werken ze nu toe naar hun aankomende album\, dat in het voorjaar van 2025 wordt uitgebracht. \nLiquid Spirits\, opgericht in 2005\, is een eigentijdse soulband geleid door het producerduo Wiboud Burkens (toetsen) en Manuel Hugas (bas). Hun unieke en experimentele geluid put inspiratie uit grote namen zoals Kendrick Lamar\, Miles Davis\, Anderson .Paak en A Tribe Called Quest\, wat hun drang naar innovatie binnen de soulmuziek benadrukt. \nMet drie albums op hun naam\, elk met een eigen concept en uiteenlopende samenwerkingen\, blijft het herkenbare ‘Liquid Spirits’-geluid steeds terugkomen. Burkens en Hugas hebben internationaal hun stempel gedrukt op de soulwereld. Naast hun werk met Liquid Spirits\, hebben ze regelmatig samengewerkt met grootheden zoals Leon Ware (componist voor onder anderen Marvin Gaye en Michael Jackson) en rapper Phonté Coleman (Little Brother). Ze schreven en produceerden ook het nummer ‘Tragic Inevitability’ voor de meervoudig Grammy-winnende Lalah Hathaway. \nTijdens schrijfsessies ontstond er een krachtige synergie met de gerenommeerde soulzanger en tekstschrijver Ivan ‘vAn’ Peroti. De gelaagde en dynamische producties van Hugas en Burkens\, gecombineerd met Peroti’s sociaal geëngageerde teksten\, eigenzinnige zangstijl en uitzonderlijke stem\, beloven opnieuw te leiden tot een onderscheidend en compromisloos soulalbum. \nLine-up:\nIvan ‘vAn’ Peroti – zang\nManuel Hugas – bas\nWiboud Burkens – toetsen\nEric Hoeke – drums \nEntree € 10\,00 (aan de deur € 12\,50)\nTickets zijn HIER verkrijgbaar
URL:https://observant.nl/evenement/liquid-spirits-jazzpodium-amersfoort/
CATEGORIES:Concertagenda,Evenement,Jazz
ATTACH;FMTTYPE=image/jpeg:https://observant.nl/wp-content/uploads/2024/09/Liquid-Spirits-op-Amersfoort-Jazz-foto-www.denozem.com_.jpg
END:VEVENT
BEGIN:VEVENT
DTSTART;TZID=UTC:20250423T203000
DTEND;TZID=UTC:20250423T223000
DTSTAMP:20260423T081459
CREATED:20241108T112934Z
LAST-MODIFIED:20250324T131923Z
UID:2327-1745440200-1745447400@observant.nl
SUMMARY:Beyond Hancock | JazzPodium Amersfoort
DESCRIPTION:Saxofonist Rolf Delfos\, gitarist Lou Guldemond\, pianist Karel Boehlee\, bassist Robert Koerts en drummer Sven Rozier hebben een gezamenlijke held: Herbie Hancock. Deze pianist en componist wordt beschouwd als een van de invloedrijkste jazzmuzikanten van de tweede helft van de twintigste eeuw\, een status vergelijkbaar met die van zijn mentor Miles Davis. In zijn muziek gebruikt hij ook elementen uit de funk\, rock\, blues\, soul\, gospel en klassieke muziek. Hij speelt zowel piano\, keyboard als synthesizer. \nOnder de naam Beyond Hancock speelt dit quintet de composities waar Hancock zo bekend mee is geworden\, zoals Cantaloupe Island of Watermelon Man\, maar ook onbekendere nummers komen aan bod. \nEntree € 10\,00 (aan de deur € 12\,50)\nTickets zijn HIER verkrijgbaar
URL:https://observant.nl/evenement/beyond-hancock-jazzpodium-amersfoort/
CATEGORIES:Concertagenda,Jazz
ATTACH;FMTTYPE=image/jpeg:https://observant.nl/wp-content/uploads/2024/09/Beyond-Hancock-Karel-Boehlee-door-John-Brussel.jpg
END:VEVENT
BEGIN:VEVENT
DTSTART;TZID=UTC:20250430T203000
DTEND;TZID=UTC:20250430T223000
DTSTAMP:20260423T081459
CREATED:20240927T141504Z
LAST-MODIFIED:20250224T141042Z
UID:2228-1746045000-1746052200@observant.nl
SUMMARY:Hurricane 5 | International Jazz Day special | JazzPodium Amersfoort
DESCRIPTION:Tenorsaxofonist Alexander Beets speelt regelmatig met zijn quintet bij Observant. 30 april is ‘International Jazz Day’. Om dit te vieren neemt hij onder andere trompettiste Ellister van der Molen\, bassist Marius Beets en drummer Sven Rozier mee. Zij spelen echte classics van Miles\, Coltrane\, Dizzy\, Freddie H\, Peterson\, Basie en Ellington\, kortom bijna álle jazzlegendes. \nAlexander Beets begon zijn muzikale carrière in Groenlo\, waar hij van zijn moeder muzieklessen kreeg op de piano en later ook op de klarinet. Hij ontdekte daarna de tenorsaxofoon welke zijn voorkeur bleek te hebben. Hoewel hij besloot beleids- en organisatiewetenschappen te studeren en niet naar het conservatorium te gaan heeft hij zich ontwikkeld tot een succesvol saxofonist. \nAlexander Beets is een muzikale all – rounder\, die in de traditie speelt van de legendarische rietblazers Stanley Turrentine\, Sonny Rollins en Houston Person . Alexander ‘Hurricane’ Beets is één van de zeldzame tenorhelden die Nederland rijk is (Parool). Hij maakte furore met de Beets Brothers en werkte met talloze kopstukken uit de (inter)nationale jazz. \nEntree € 10\,00 (aan de deur € 12\,50)\nTickets zijn HIER verkrijgbaar
URL:https://observant.nl/evenement/hurricane-5-jazzpodium-amersfoort-4/
CATEGORIES:Concertagenda,Jazz
ATTACH;FMTTYPE=image/jpeg:https://observant.nl/wp-content/uploads/2024/08/Alexander-Beets-fotograaf-www.denozem.com_.jpg
END:VEVENT
END:VCALENDAR