BEGIN:VCALENDAR
VERSION:2.0
PRODID:-//Observant Amersfoort - ECPv6.15.20//NONSGML v1.0//EN
CALSCALE:GREGORIAN
METHOD:PUBLISH
X-ORIGINAL-URL:https://observant.nl
X-WR-CALDESC:Evenementen voor Observant Amersfoort
REFRESH-INTERVAL;VALUE=DURATION:PT1H
X-Robots-Tag:noindex
X-PUBLISHED-TTL:PT1H
BEGIN:VTIMEZONE
TZID:UTC
BEGIN:STANDARD
TZOFFSETFROM:+0000
TZOFFSETTO:+0000
TZNAME:UTC
DTSTART:20240101T000000
END:STANDARD
END:VTIMEZONE
BEGIN:VEVENT
DTSTART;TZID=UTC:20250611T203000
DTEND;TZID=UTC:20250611T223000
DTSTAMP:20260423T051740
CREATED:20241108T115106Z
LAST-MODIFIED:20250430T122258Z
UID:2333-1749673800-1749681000@observant.nl
SUMMARY:Mete Erker Trio + 1 | JazzPodium Amersfoort
DESCRIPTION:Album Release Tour ‘Tilburg Noord’ \nOver de poëzie in de kieren van een jaren ’70 Vinex-wijk. En over je plek vinden. \nSaxofonist Mete Erker komt dit jaar met een gloednieuwe band bestaande uit drie zeer eigengereide musici: pianist Floris Kappeyne\, bassist Tijs Klaassen en drummer Wouter Kühne.\nMet dit trio treedt Mete Erker als solist op de voorgrond. Hij neemt daarbij alle ruimte om volledig zijn eigen spel te spelen\, open en direct\, vers van de lever. \n‘Tilburg Noord’ is het debuutalbum van de band\, en het eerste deel van een tweeluik: in het najaar komt ‘Live in Paradox’ uit. Met beide albums gaat Mete Erker terug naar zijn muzikale roots: Europees impressionisme in een wonderlijke mix met de vrije extraverte jazzmuziek van Albert Ayler en Charlie Haden. Dit alles gezien door ogen van nu. \nFree Flow Music! \nEntree € 10\,00 (aan de deur € 12\,50)\nTickets zijn HIER verkrijgbaar
URL:https://observant.nl/evenement/mete-erker-trio-1-jazzpodium-amersfoort/
CATEGORIES:Concertagenda,Jazz
ATTACH;FMTTYPE=image/jpeg:https://observant.nl/wp-content/uploads/2024/09/Mete-Erker-1-┬®-Gerda-Genis-HiRes.jpg
END:VEVENT
BEGIN:VEVENT
DTSTART;TZID=UTC:20250618T203000
DTEND;TZID=UTC:20250618T223000
DTSTAMP:20260423T051740
CREATED:20250320T190736Z
LAST-MODIFIED:20250320T190827Z
UID:2713-1750278600-1750285800@observant.nl
SUMMARY:Big Mike & Rich McDonough
DESCRIPTION:Zanger en gitarist Michael (Big Mike) Aguirre is van beroep advocaat\, maar hij is in hart en nieren muzikant\, waarbij zijn voorkeur uitgaat naar blues en soul. Mike treedt op als solo\, duo en met een grote eigen band. Mike woont nu op het Amerikaanse eiland St John in de Cariben\, maar gaat regelmatig naar Saint Louis en heeft daar een grote band The Blu-City All-Stars. \nGitarist Rich McDonough kwam als tiener in aanraking met de blues en heeft in talloze bands gespeeld\, o.a. Johnny Johnson\, Kenny ‘Blues Boss’ Wayne\, Soulard Blues Band\, Imperial Blues Band\, Rondo’s Blues Deluxe en onder eigen naam. Sinds een paar jaar werkt hij onder de naam The Rhythm Renegades. \nLine-up:\nBig Mike Aguirre – zang en gitaar\nRich McDonough – lead gitaar\nHanneke Kolkman – sax\nJan van den Berg – bas\nJoost Witte – drums \nEntree € 10\,00 (aan de deur € 12\,50)\nTickets zijn HIER verkrijgbaar
URL:https://observant.nl/evenement/big-mike-rich-mcdonough/
CATEGORIES:Concertagenda
ATTACH;FMTTYPE=image/jpeg:https://observant.nl/wp-content/uploads/2024/09/Rich-McDonough-Groot.jpg
END:VEVENT
BEGIN:VEVENT
DTSTART;TZID=UTC:20250625T203000
DTEND;TZID=UTC:20250625T223000
DTSTAMP:20260423T051740
CREATED:20250430T123444Z
LAST-MODIFIED:20250430T123651Z
UID:3072-1750883400-1750890600@observant.nl
SUMMARY:Alexander Beets' Kung Fu Jazz | JazzPodium Amersfoort
DESCRIPTION:Drie scheurende saxen brengen een avond ‘groove jazz’. Geïnspireerd op het idioom van Dave Koz\, David Sanborn\, Marcus Miller\, George Benson en Stevie Wonder zal deze avond een waardige afsluiting zijn van het JazzPodium Amersfoort concertseizoen. Femke Mooren neemt als stoere ‘power vrouw’ op sax het op tegen Rolf Delfos en Alexander Beets. Toetsenist Will Maas\, bassist Marius Beets en slagwerk Sven Rozier completeren het gezelschap. \nNoem de naam Beets waar dan ook ter wereld en er staat een jazzliefhebber in de zaal op die weet waar je het over hebt: kwaliteit\, maar ook een stevig potje bop en swing. En swing\, dat komt saxofonist Alexander ‘The Hurricane’ Beets zeker brengen in Observant. Beets stond\, net als (en met en zonder) zijn broers al op podia en festivals over de hele wereld. Zijn mix van swing en ballads\, standards en eigen werk kreeg in van Polen tot Thailand en Canada tot India voetjes van de vloer. \nDit optreden wordt mede mogelijk gemaakt door het Fonds Podiumkunsten en het Nationaal PodiumPlan. \nEntree € 10\,00 (aan de deur € 12\,50) \nGekochte kaartjes kunnen niet geretourneerd worden. \nTickets zijn HIER verkrijgbaar
URL:https://observant.nl/evenement/alexander-beets-kung-fu-jazz-jazzpodium-amersfoort/
CATEGORIES:Concertagenda,Jazz
ATTACH;FMTTYPE=image/jpeg:https://observant.nl/wp-content/uploads/2024/08/Alexander-Beets-fotograaf-www.denozem.com_.jpg
END:VEVENT
END:VCALENDAR