BEGIN:VCALENDAR
VERSION:2.0
PRODID:-//Observant Amersfoort - ECPv6.15.20//NONSGML v1.0//EN
CALSCALE:GREGORIAN
METHOD:PUBLISH
X-ORIGINAL-URL:https://observant.nl
X-WR-CALDESC:Evenementen voor Observant Amersfoort
REFRESH-INTERVAL;VALUE=DURATION:PT1H
X-Robots-Tag:noindex
X-PUBLISHED-TTL:PT1H
BEGIN:VTIMEZONE
TZID:UTC
BEGIN:STANDARD
TZOFFSETFROM:+0000
TZOFFSETTO:+0000
TZNAME:UTC
DTSTART:20240101T000000
END:STANDARD
END:VTIMEZONE
BEGIN:VEVENT
DTSTART;TZID=UTC:20250704T170000
DTEND;TZID=UTC:20250704T190000
DTSTAMP:20260423T034724
CREATED:20250626T182729Z
LAST-MODIFIED:20250626T182729Z
UID:3275-1751648400-1751655600@observant.nl
SUMMARY:Songs of Silence III | Boekpresentatie
DESCRIPTION:Een doosje vol stilte\, vergankelijkheid en schoonheid \nNa het succes van Songs of Silence I & II presenteert Annemiek van der Kuil met trots Songs of Silence III tijdens haar expositie. Er is vanaf 17.30 uur een kort programma\, waarna je deel III en de expositie (te zien t/m 19 juli) in goed gezelschap kunt bekijken. \nSongs of Silence III is vormgegeven als leporello. Met nieuwe foto’s\, andere vormgeving en andere kleur. Het thema blijft hetzelfde als de voorgangers: een ode aan de vergankelijkheid\, waarbij de pijn van verlies in evenwicht wordt gebracht met de viering van het huidige moment. De leporello zit in een stijlvol doosje\, genummerd en gesigneerd met een fine art print in het deksel. Uniek\, persoonlijk en opnieuw in een gelimiteerde oplage – net als deel I en II\, die inmiddels bijna zijn uitverkocht.
URL:https://observant.nl/evenement/songs-of-silence-iii-boekpresentatie/
CATEGORIES:Concertagenda,Expositie
ATTACH;FMTTYPE=image/png:https://observant.nl/wp-content/uploads/2025/06/SoSIII_lancering-4-juli.png
END:VEVENT
BEGIN:VEVENT
DTSTART;TZID=UTC:20250704T203000
DTEND;TZID=UTC:20250704T223000
DTSTAMP:20260423T034724
CREATED:20250605T114459Z
LAST-MODIFIED:20250605T114459Z
UID:3211-1751661000-1751668200@observant.nl
SUMMARY:Son de Aquí | Dias Latinos
DESCRIPTION:De Rotterdamse band Son de Aquí brengt een avond vol vuur\, ritme en feest! Deze krachtige world music band\, geboren in Mexico-Stad\, mixt traditionele ritmes uit Mexico\, Cuba en Colombia met moderne invloeden zoals reggae\, funk\, hiphop en elektronica. \nBekend van optredens op o.a. Zwarte Cross\, Bevrijdingsfestival en Afro-Latino\, brengen ze een explosieve liveshow vol energie\, emotie en grensoverschrijdende muzikale verhalen. Laat je meevoeren door hun nieuwste album “Al otro lado del mar” en dompel je onder in een muzikale reis vol verbinding en levensvreugde. \nMeer info en tickets
URL:https://observant.nl/evenement/son-de-aqui-dias-latinos/
CATEGORIES:Concertagenda,Evenement,Latin
ATTACH;FMTTYPE=image/jpeg:https://observant.nl/wp-content/uploads/2025/06/Son-de-Aqui-band-photo-2022-LANDSCAPE.jpg
END:VEVENT
BEGIN:VEVENT
DTSTART;TZID=UTC:20250705T203000
DTEND;TZID=UTC:20250705T223000
DTSTAMP:20260423T034724
CREATED:20250605T114926Z
LAST-MODIFIED:20250605T115317Z
UID:3226-1751747400-1751754600@observant.nl
SUMMARY:ChaChaChalina | Dias Latinos
DESCRIPTION:ChaChaChalina brengt een zinderende avond vol latinjazz\, salsa en percussieve power. Onder leiding van de charismatische Chalina Smit – zangeres én conga-speelster – neemt deze band je mee op een muzikale reis naar tropische oorden waar het onmogelijk is stil te blijven staan. \nMet hun explosieve sound\, sterke grooves en onweerstaanbare energie weet ChaChaChalina elk publiek in beweging te brengen. Bekend van de finaleplek bij de Conservatorium Talent Award (2020) en hun debuutalbum (2023)\, zijn ze nu terug met nieuwe muziek en een krachtige boodschap: hun aankomende single Mujeres Fuertes is een ode aan sterke vrouwen. \nMeer info en tickets
URL:https://observant.nl/evenement/chachachalina-dias-latinos/
CATEGORIES:Concertagenda,Evenement,Latin
ATTACH;FMTTYPE=image/jpeg:https://observant.nl/wp-content/uploads/2025/06/ChaChalina.jpg
END:VEVENT
BEGIN:VEVENT
DTSTART;TZID=UTC:20250706T160000
DTEND;TZID=UTC:20250706T180000
DTSTAMP:20260423T034724
CREATED:20250605T115243Z
LAST-MODIFIED:20250605T115243Z
UID:3229-1751817600-1751824800@observant.nl
SUMMARY:Pedro Luis y su Caney | Dias Latinos
DESCRIPTION:Pedro Luis y su Caney speelt een mix van traditionele trova\, bolero’s\, cha cha cha\, guaracha\, en populaire son\, gecombineerd met frisse arrangementen in de stijl van Buena Vista Social Club\, Compay Segundo en Vieja Trova Santiaguera. Dit alles wordt aangevuld met prachtige eigen composities\, verrijkt met moderne elementen zoals guajeo’s en tumba’os. De complete bezetting van Caney is volledig akoestisch\, precies zoals in het legendarische ‘Casa de la Trova’ in Santiago\, met mooie zang\, tres en gitaar\, contrabas\, bongó en trompet. \nMeer info en tickets
URL:https://observant.nl/evenement/pedro-luis-y-su-caney-dias-latinos-2/
CATEGORIES:Concertagenda,Evenement,Latin
ATTACH;FMTTYPE=image/jpeg:https://observant.nl/wp-content/uploads/2025/06/Pedro-Luis-y-su-Caney.jpeg
END:VEVENT
BEGIN:VEVENT
DTSTART;TZID=UTC:20250713T150000
DTEND;TZID=UTC:20250713T170000
DTSTAMP:20260423T034724
CREATED:20250616T120226Z
LAST-MODIFIED:20250618T093711Z
UID:3246-1752418800-1752426000@observant.nl
SUMMARY:Luke Bridges & The Oak Trees | Binnenplaatsconcert
DESCRIPTION:Luke Bridges zou je kunnen kennen van zijn ongelofelijk mooie stem en smaakvolle gitaarspel. Zondag 13 juli brengt hij zijn akoestische set naar Observant. Voor deze speciale show neemt hij zijn goede vrienden en collega’s Jasper en Stijn mee om hem met extra gitaren te begeleiden. Verwacht een programma met hits van toen en nu in een Amerikaans jasje van o.a. John Mayer\, Ed Sheeran\, Amy Winehouse en nog vele anderen! \nDe volle en warme stem van Luke Bridges raakt je en blaast je tegelijkertijd om ver. De combinatie van zijn gitaarspel en stemgeluid zorgt voor een aangename zondagmiddag op onze binnenplaats. \nEntree € 10\,oo online | € 12\,50 aan de deur\nTickets zijn HIER verkrijgbaar
URL:https://observant.nl/evenement/luke-bridges-the-oak-trees-binnenplaatsconcert/
CATEGORIES:Concertagenda,Singer Songwriter
ATTACH;FMTTYPE=image/jpeg:https://observant.nl/wp-content/uploads/2025/06/Luke-Bridges-The-Oak-Trees.jpg
END:VEVENT
BEGIN:VEVENT
DTSTART;TZID=UTC:20250720T150000
DTEND;TZID=UTC:20250720T180000
DTSTAMP:20260423T034724
CREATED:20240530T202350Z
LAST-MODIFIED:20250606T113333Z
UID:1717-1753023600-1753034400@observant.nl
SUMMARY:Groove Society | Binnenplaatsconcert
DESCRIPTION:De 10 doorgewinterde muzikanten van Groove Society delen één grote passie: het publiek uit z’n dak zien gaan op herkenbare en dansbare funk\, soul en dance classics van de 70’s tot nu. \nGroove Society is een beweging. Een movement. Want bewegen wil je\, als de band speelt. Groove Society put uit wereldhits van de grote namen in de soul en dance classics. Groove Society is geen crowd pleaser. Groove Society is deel van de crowd. Ze maken de muziek waarop ze zelf het liefste dansen. \nGroove Society weet wat een feest is. De band bouwt er het liefste zelf een. Met vocalisten die geboren entertainers zijn. Een ritmesectie die staat als een huis. Een strakke blazerssectie. Samen zorgen ze voor een live-experience die elk feest een dans-injectie geeft. Stilstaan mag – in deze society valt niemand uit de toon. Maar deze band garandeert je één ding: de vibe van Groove Society pakt uiteindelijk iedereen. \nHet repertoire van Groove Society bestaat uit wereldhits uit de 70’s\, 80’s\, 90’s\, 00’s en van nu. Namen wil je? Oké: Bruno Mars\, Michael Jackson\, Prince\, Earth\, Wind & Fire\, Diana Ross\, Chaka Khan en nog veel meer. Dus met een beetje Fantasy vind je op A Brand New Day een Treasure in Boogie Wonderland. Zo’n middag wordt het? Ja\, zó’n middag! Blame It On The Boogie! \nLine up:\nFabian Willems – lead & backing vocals\nVivian Gravenberch – lead & backing vocals\nJohan Looijenga – keyboards\nAllard Frederiks – gitaar\nPim Meester – bas\nClement Keyzer – drums\nBart Noorman – trompet\nPaul van Egmond – trombone\nPhilip Wolffers – alt- en tenorsax \nEntree € 12\,50 online | € 15\,00 aan de deur\nTickets zijn HIER verkrijgbaar
URL:https://observant.nl/evenement/groove-society-binnenplaatsconcert/
CATEGORIES:Concertagenda,Pop
ATTACH;FMTTYPE=image/jpeg:https://observant.nl/wp-content/uploads/2024/05/Groove-Society.jpg
END:VEVENT
BEGIN:VEVENT
DTSTART;TZID=UTC:20250727T150000
DTEND;TZID=UTC:20250727T170000
DTSTAMP:20260423T034724
CREATED:20250707T141347Z
LAST-MODIFIED:20250707T141347Z
UID:3279-1753628400-1753635600@observant.nl
SUMMARY:Bits of New Orleans | Binnenplaatsconcert
DESCRIPTION:Zanger/pianist Jetse de Jong en saxofonist Lucas Santana nemen ons mee naar New Orleans en omstreken\, de bakermat van blues en jazz – maar dan met een ‘southern vibe’\, gemêleerd als de Creoolse en Cajunse keuken. Denk aan een Louis Armstrong\, en Fats Waller\, of tegenwoordig: Jon Cleary. Jetse en Lucas lieten in deze samenstelling al van zich horen op Musicians Paradise. Deze zondag verrijken ze hun receptuur van eigen stukken en standards met de smaakvolle klanken van Suzan Veneman (trompet) en Enrico Le Noci (gitaar). \nEntree € 12\,50 online | € 15\,00 aan de deur\nTickets zijn HIER verkrijgbaar
URL:https://observant.nl/evenement/bits-of-new-orleans-binnenplaatsconcert/
CATEGORIES:Concertagenda,Jazz
ATTACH;FMTTYPE=image/jpeg:https://observant.nl/wp-content/uploads/2025/07/Jetse-de-Jong.jpeg
END:VEVENT
END:VCALENDAR