BEGIN:VCALENDAR
VERSION:2.0
PRODID:-//Observant Amersfoort - ECPv6.15.20//NONSGML v1.0//EN
CALSCALE:GREGORIAN
METHOD:PUBLISH
X-WR-CALNAME:Observant Amersfoort
X-ORIGINAL-URL:https://observant.nl
X-WR-CALDESC:Evenementen voor Observant Amersfoort
REFRESH-INTERVAL;VALUE=DURATION:PT1H
X-Robots-Tag:noindex
X-PUBLISHED-TTL:PT1H
BEGIN:VTIMEZONE
TZID:Europe/Amsterdam
BEGIN:DAYLIGHT
TZOFFSETFROM:+0100
TZOFFSETTO:+0200
TZNAME:CEST
DTSTART:20240331T010000
END:DAYLIGHT
BEGIN:STANDARD
TZOFFSETFROM:+0200
TZOFFSETTO:+0100
TZNAME:CET
DTSTART:20241027T010000
END:STANDARD
BEGIN:DAYLIGHT
TZOFFSETFROM:+0100
TZOFFSETTO:+0200
TZNAME:CEST
DTSTART:20250330T010000
END:DAYLIGHT
BEGIN:STANDARD
TZOFFSETFROM:+0200
TZOFFSETTO:+0100
TZNAME:CET
DTSTART:20251026T010000
END:STANDARD
BEGIN:DAYLIGHT
TZOFFSETFROM:+0100
TZOFFSETTO:+0200
TZNAME:CEST
DTSTART:20260329T010000
END:DAYLIGHT
BEGIN:STANDARD
TZOFFSETFROM:+0200
TZOFFSETTO:+0100
TZNAME:CET
DTSTART:20261025T010000
END:STANDARD
END:VTIMEZONE
BEGIN:VTIMEZONE
TZID:UTC
BEGIN:STANDARD
TZOFFSETFROM:+0000
TZOFFSETTO:+0000
TZNAME:UTC
DTSTART:20240101T000000
END:STANDARD
END:VTIMEZONE
BEGIN:VEVENT
DTSTART;TZID=Europe/Amsterdam:20250903T203000
DTEND;TZID=Europe/Amsterdam:20250903T223000
DTSTAMP:20260423T005435
CREATED:20250817T060413Z
LAST-MODIFIED:20250818T101026Z
UID:3325-1756931400-1756938600@observant.nl
SUMMARY:Lucas Santana | JPA Jamsession
DESCRIPTION:Jamsessies zijn voor jazzmusici wat de sportschool is voor atleten. Een plek waar ze hun vaardigheden kunnen meten met collega’s\, hun bekwaamheid kunnen trainen en al improviserend tot de mooiste ontdekkingen kunnen komen. Daarom organiseert Observant dit seizoen maandelijks jamsessies die open staan voor professionele muzikanten. Elke sessie wordt geleid door een ervaren bandleider. Zo wordt het een belevenis voor zowel de musici als het publiek. \nDe jamsessies zijn gratis toegankelijk en hebben mede tot doel om nieuwe professionele makers te verbinden met Amersfoort\, het JazzPodium Amersfoort en het festival Musicians Paradise. Sessieleiders zijn dit seizoen Lucas Santana\, Ed Verhoeff\, Henk Kraaijeveld\, Rolf Delfos en Marius Beets. \nVeelzijdigheid\, energie en muzikaliteit kenmerken Lucas Figueiredo Santana (1993). Saxofonist\, maar ook klarinettist en fluitist: de jonge Braziliaanse muzikant\, woonachtig in Amsterdam\, heeft een unieke manier gevonden om zich via muziek uit te drukken. Hij verbindt Braziliaanse samba-jazz\, bossa nova en choro met jazz. \nAls winnaar van Keep an Eye Records (2020) en Downbeat Magazine in de categorie Small Jazz Combo\, woont Lucas sinds 2015 in Europa. Daar kreeg hij talloze kansen om het beste van de muziek te ervaren en het podium te delen met vele grote namen uit de Braziliaanse\, jazz- en popscene. \nDe spelregels: \nDeelname staat open voor professionele jazzmusici uit het hele land. Wil je deelnemen\, stuur dan een bericht naar programmering@observant.nl. Geef hierbij aan welke stuk je wilt spelen. Bij vragen neemt de bandleider contact met je op. \nDit optreden wordt mede mogelijk gemaakt door het Fonds Podiumkunsten. \nEntree gratis
URL:https://observant.nl/evenement/lucas-santana-jpa-jamsession/
CATEGORIES:Concertagenda,Jazz
ATTACH;FMTTYPE=image/jpeg:https://observant.nl/wp-content/uploads/2025/08/Lucas-Santana.jpg
END:VEVENT
BEGIN:VEVENT
DTSTART;TZID=UTC:20250907T093000
DTEND;TZID=UTC:20250907T110000
DTSTAMP:20260423T005435
CREATED:20250616T121004Z
LAST-MODIFIED:20250728T083910Z
UID:3253-1757237400-1757242800@observant.nl
SUMMARY:Pianist Max Laboyrie | Bach & Breakfast
DESCRIPTION:Terug van weggeweest en met een nieuwe naam\, start Observant dit najaar een nieuwe reeks ontbijtconcerten. Onder de naam Bach & Breakfast kun je op de eerste zondagochtend van de maand genieten van een uitgebreid ontbijt\, terwijl je luistert naar een klassiek concert. In de intieme en ongedwongen setting van Observant spelen soms jonge en dan weer ervaren musici\, een toegankelijk programma waarbij zij hun muziekkeuzen toelichten met een persoonlijk of informatief verhaal. \nOp zondag 7 september bijt pianist Max Laboyrie het spits af. Max begon op zijn achtste met pianospelen. Hoewel hij de piano niet direct zag zitten\, wilde hij het toch wel proberen toen hij zijn vader Mozarts 6e pianosonate hoorde spelen. Sindsdien kan Max zich geen leven zonder piano meer voorstellen. Zelfs in zijn Amsterdamse studentenkamer van 3 bij 3 meter\, heeft hij een piano gezet\, naar binnen getakeld via het balkon. \nMax studeerde in eerste instantie wiskunde aan de Universiteit van Amsterdam. Een studie die hij in 2021 afrondde\, maar waarvan hij zeker wist dat zijn toekomst niet op dat vakgebied lag. Twee jaar na zijn afstuderen besloot Max de gok te wagen en auditie te doen bij het Utrechts Conservatorium. Hij werd aangenomen en studeert er momenteel met veel plezier bij Henry Kelder. Tijdens de opleiding leert de pianist in opleiding veel stijlen waarderen: van Bach en Rameau via Haydn\, Beethoven en Chopin tot Skrjabin\, Sjostakovitsj en Ton de Leeuw. In zijn concert op 7 september zal Max een selectie uit die stijlen ten gehore brengen\, waarbij Bach niet zal ontbreken! \nMax speelt regelmatig en met veel plezier in verpleeg- en verzorgingshuis: ‘Het is elke keer weer magisch om te zien wat voor effect muziek kan hebben op zelfs de meest dementerende ouderen. Menigmaal wordt er met een wals van Chopin of een stukje Schumann meegezongen of gefloten en altijd komen – muzikale- herinneringen bovendrijven.’ \nEntree € 25\,00 (inclusief ontbijt)\nTickets zijn HIER verkrijgbaar
URL:https://observant.nl/evenement/pianist-max-laboyrie-bach-breakfast/
CATEGORIES:Concertagenda,Klassiek
ATTACH;FMTTYPE=image/jpeg:https://observant.nl/wp-content/uploads/2025/06/max-laboyrie.jpeg
END:VEVENT
BEGIN:VEVENT
DTSTART;TZID=UTC:20250910T203000
DTEND;TZID=UTC:20250910T223000
DTSTAMP:20260423T005435
CREATED:20250817T061253Z
LAST-MODIFIED:20250817T061253Z
UID:3342-1757536200-1757543400@observant.nl
SUMMARY:Hurricane 5 | Crooners Tribute ft. Henk Kraaijeveld | JPA The Legends
DESCRIPTION:Saxofonist Alexander Beets presenteert een aantal avonden waarin iconische ‘Legends’\, jazzmusici of stijlperiodes centraal staan. Hij werkt hiervoor telkens samen met andere Nederlandse gastmusici. Aan bod komen in ieder geval the Crooners (Sinatra\, Nat King Cole\, Bennett)\, Freddie Hubbard\, Grand Ladies of Jazz (Ella\, Billy\, Sarah) en the Brazilian Songbook. \nDeze keer neemt hij Henk Kraaijeveld mee voor een eerbetoon aan de Crooners. Henk Kraaijeveld is geen onbekende in Amersfoort. De vocalist zoekt het muzikale avontuur op\, waarbij hij meeslepende muziek combineert met poëtische teksten en verrassende improvisaties. De prijswinnende zanger ontwapent zijn publiek met zijn warme stem en natuurlijke speelsheid op het podium. Hij toerde internationaal met diverse projecten. \nAlexander Beets is een muzikale all – rounder\, die in de traditie speelt van de legendarische rietblazers Stanley Turrentine\, Sonny Rollins en Houston Person. Alexander ‘Hurricane’ Beets is één van de zeldzame tenorhelden die Nederland rijk is (Parool). Hij maakte furore met de Beets Brothers en werkte met talloze kopstukken uit de (inter)nationale jazz. \nDit optreden wordt mede mogelijk gemaakt door het Fonds Podiumkunsten. \nEntree € 10\,00 online | € 12\,50 aan de deur\nTickets zijn HIER verkrijgbaar
URL:https://observant.nl/evenement/hurricane-5-crooners-tribute-ft-henk-kraaijeveld-jpa-the-legends/
CATEGORIES:Concertagenda,Jazz
ATTACH;FMTTYPE=image/jpeg:https://observant.nl/wp-content/uploads/2025/08/Henk-Kraaijeveld.jpg
END:VEVENT
BEGIN:VEVENT
DTSTART;TZID=Europe/Amsterdam:20250917T203000
DTEND;TZID=Europe/Amsterdam:20250917T223000
DTSTAMP:20260423T005435
CREATED:20250817T062225Z
LAST-MODIFIED:20250912T132154Z
UID:3344-1758141000-1758148200@observant.nl
SUMMARY:Zinder (Suzan Veneman) | JPA Spice up your Jazz
DESCRIPTION:Jazz en wereldmuziek kent vele stijlen en is er in vele smaken. Swingende standards\, schitterende vocalisten\, improviserende instrumentalisten\, maar ook eigenwijze nieuwe muziek die nét even wat meer vergt van de luisteraar. Onder de titel ‘Spice up your Jazz’ worden bands die normaliter voornamelijk in het Bimhuis\, Tivoli Vredenburg of LantarenVenster optreden nu ook onderdeel van het JPA programma. Dompel je onder in het avontuur en ontdek de mooiste parels die de actuele jazz te bieden heeft! \nJazztrompettist Suzan Veneman heeft in korte tijd de aandacht getrokken van menig jazzliefhebber in het land met haar soulvolle en energieke spel. Naast haar uitvoerende talenten zet zij zich tevens neer als veelbelovend componist en arrangeur. Haar composities schrijft zij zowel voor kleine als grote bezettingen en zitten vol avontuurlijke wendingen en kleurrijke harmonieën. Suzan speelt in de vaste bezetting van onder andere het Jazz Orchestra of the Concertgebouw en heeft haar eigen projecten\, het Suzan Veneman Sextet en nieuw ensemble Zinder. \nHet woord ‘Zinder’ staat voor: zinderend\, levendig\, vurig\, sensationeel en in het moment zijn. Iets wat volgens Suzan heel goed past bij het karakter en de beleving van het luisteren naar de trompet. Haar idee was om in dit ensemble het dynamische samenspel van vier trompetten te combineren met de vrijheid van een chord-less trio\, door bas en drums toe te voegen. Binnen deze bezetting maakt zij op speelse manier gebruik van de verschillende rollen die de trompet aanneemt binnen het jazz idioom\, in bigband-achtige tutti’s\, verstilde melodieën\, vrije improvisatie en warme samenklanken. \nDe composities zijn in de eerste plaats geschreven voor de musici van het ensemble\, waarin Veneman feilloos invoelt op de individuele karakters en muzikale expressie. Elk stuk is als een filmisch tafereel\, dat Veneman op een slimme en charmante manier met klank in beeld brengt. \nDit optreden wordt mede mogelijk gemaakt door het Fonds Podiumkunsten. \nEntree € 10\,00 online | € 12\,50 aan de deur\nTickets zijn HIER verkrijgbaar
URL:https://observant.nl/evenement/zinder-suzan-veneman-jpa-spice-up-your-jazz/
CATEGORIES:Concertagenda,Jazz
ATTACH;FMTTYPE=image/jpeg:https://observant.nl/wp-content/uploads/2025/08/Zinder2_byJuliaBoHeijnen2022-landscape.jpg
END:VEVENT
BEGIN:VEVENT
DTSTART;TZID=Europe/Amsterdam:20250924T203000
DTEND;TZID=Europe/Amsterdam:20250924T223000
DTSTAMP:20260423T005435
CREATED:20250817T063733Z
LAST-MODIFIED:20250912T132225Z
UID:3346-1758745800-1758753000@observant.nl
SUMMARY:Carolina Brusse\, Awaiting Grounded | JPA Albumpresentatie
DESCRIPTION:Carolina Brusse\, geboren op 1 oktober 1999 in Iseo\, Italië\, is een 25-jarige zangeres en componiste met een unieke mix van Nederlandse en Italiaanse roots. Haar ouders ontmoetten elkaar op een camping in Italië\, waar de vonk meteen oversloeg\, ondanks de taalbarrière. Haar moeder\, afkomstig uit een muzikaal gezin\, bracht haar de Italiaanse cultuur bij: elegantie\, openhartigheid\, temperament en een sterk familiegevoel. Deze Italiaanse invloeden\, samen met haar Nederlandse opvoeding\, vormen de basis voor haar artistieke identiteit. Terwijl haar Italiaanse kant haar muzikale expressie voedt\, bracht haar jeugd in Nederland haar open-mindedheid en verlangen naar vrijheid. Dit geeft haar de ruimte om zichzelf als artiest te ontdekken en te blijven ontwikkelen. \nIn juli 2024 richtte Carolina haar octet op en in augustus nam ze haar debuutalbum Grounded op in Studio Wisseloord. Het album\, met vijf originele composities en twee covers\, onderzoekt thema’s van acceptatie en liefde die diep verweven met Carolina’s persoonlijke levenservaringen. Vandaag presenteert zij een voorproefje van dit album\, wat deze winter uitkomt.  Ze wordt daarbij begeleid door toetsenist Evan van der Feen\, gitarist Agus Fulka\, bassist Azubike Onwuka en drummer Guy Abada. \nDit optreden wordt mede mogelijk gemaakt door het Fonds Podiumkunsten. \nEntree € 10\,00 online | € 12\,50 aan de deur\nTickets zijn HIER verkrijgbaar
URL:https://observant.nl/evenement/carolina-brusse-jpa-albumpresentatie/
CATEGORIES:Concertagenda,Jazz
ATTACH;FMTTYPE=image/jpeg:https://observant.nl/wp-content/uploads/2025/08/Carolina-Brusse-2.jpg
END:VEVENT
END:VCALENDAR