BEGIN:VCALENDAR
VERSION:2.0
PRODID:-//Observant Amersfoort - ECPv6.15.20//NONSGML v1.0//EN
CALSCALE:GREGORIAN
METHOD:PUBLISH
X-WR-CALNAME:Observant Amersfoort
X-ORIGINAL-URL:https://observant.nl
X-WR-CALDESC:Evenementen voor Observant Amersfoort
REFRESH-INTERVAL;VALUE=DURATION:PT1H
X-Robots-Tag:noindex
X-PUBLISHED-TTL:PT1H
BEGIN:VTIMEZONE
TZID:Europe/Amsterdam
BEGIN:DAYLIGHT
TZOFFSETFROM:+0100
TZOFFSETTO:+0200
TZNAME:CEST
DTSTART:20250330T010000
END:DAYLIGHT
BEGIN:STANDARD
TZOFFSETFROM:+0200
TZOFFSETTO:+0100
TZNAME:CET
DTSTART:20251026T010000
END:STANDARD
BEGIN:DAYLIGHT
TZOFFSETFROM:+0100
TZOFFSETTO:+0200
TZNAME:CEST
DTSTART:20260329T010000
END:DAYLIGHT
BEGIN:STANDARD
TZOFFSETFROM:+0200
TZOFFSETTO:+0100
TZNAME:CET
DTSTART:20261025T010000
END:STANDARD
BEGIN:DAYLIGHT
TZOFFSETFROM:+0100
TZOFFSETTO:+0200
TZNAME:CEST
DTSTART:20270328T010000
END:DAYLIGHT
BEGIN:STANDARD
TZOFFSETFROM:+0200
TZOFFSETTO:+0100
TZNAME:CET
DTSTART:20271031T010000
END:STANDARD
END:VTIMEZONE
BEGIN:VEVENT
DTSTART;TZID=Europe/Amsterdam:20260201T093000
DTEND;TZID=Europe/Amsterdam:20260201T113000
DTSTAMP:20260422T172006
CREATED:20260106T112449Z
LAST-MODIFIED:20260106T112449Z
UID:3521-1769938200-1769945400@observant.nl
SUMMARY:Glenn de Roo (gitaar) | Bach & Breakfast
DESCRIPTION:Onder de naam Bach & Breakfast geniet je ook in 2026 op de eerste zondagochtend van de maand van een uitgebreid ontbijt\, terwijl je luistert naar een klassiek concert. In de intieme en ongedwongen setting van Observant spelen soms jonge en dan weer ervaren musici een toegankelijk programma waarbij zij hun muziekkeuze toelichten met een persoonlijk of informatief verhaal. \nOp zondag 1 februari speelt gitarist Glenn de Roo een afwisselend programma met werk van Spaanse componisten\, filmmuziek én composities van de enige echte Johann Sebastian Bach.  \nGlenn startte zijn muzikale loopbaan met een elektrische gitaar\, maar toen hij iemand de flamenco hoorde spelen werd hij tot het diepste van zijn wezen geraakt en sloeg hij een nieuwe weg in\, die van de akoestische gitaarmuziek. Glenn studeerde aan het Brabants Conservatorium en aan het Conservatorium van Palma de Mallorca\, waar hij les had van gitaar-grootheden Pedro Mateo Gonzalez en Carlo Marchione. \nZijn internationale debuut maakte Glenn in 2017 in Palma de Mallorca. Sinds zijn afstuderen in 2019 speelt de gitarist in theaters en concertzalen\, maar hij treedt ook op tijdens huiskamerconcerten\, bruiloften of uitvaarten. Naast de vele optredens heeft Glenn zijn eigen lespraktijk in Veldhoven. \nEntree € 25\,00 (inclusief ontbijt)\nTickets zijn HIER verkrijgbaar
URL:https://observant.nl/evenement/glenn-de-roo-gitaar-bach-breakfast/
CATEGORIES:Concertagenda,Klassiek
ATTACH;FMTTYPE=image/jpeg:https://observant.nl/wp-content/uploads/2026/01/Glenn-de-Roo.jpg
END:VEVENT
BEGIN:VEVENT
DTSTART;TZID=Europe/Amsterdam:20260211T203000
DTEND;TZID=Europe/Amsterdam:20260211T223000
DTSTAMP:20260422T172006
CREATED:20251216T135652Z
LAST-MODIFIED:20260204T100500Z
UID:3487-1770841800-1770849000@observant.nl
SUMMARY:Hurricane 5 |  The Brazilian Songbook ft. Francisco Rodriguez
DESCRIPTION:Saxofonist Alexander Beets presenteert een aantal avonden waarin iconische ‘Legends’\, jazzmusici of stijlperiodes centraal staan. Hij werkt hiervoor telkens samen met andere Nederlandse gastmusici. Vandaag staat het Brazilian Songbook in de spotlight en neemt hij onder andere saxofonist Lucas Santana en pianist Francisco Rodríguez mee. \nAlexander Beets is een muzikale all – rounder\, die in de traditie speelt van de legendarische rietblazers Stanley Turrentine\, Sonny Rollins en Houston Person. Alexander ‘Hurricane’ Beets is één van de zeldzame tenorhelden die Nederland rijk is (Parool). Hij maakte furore met de Beets Brothers en werkte met talloze kopstukken uit de (inter)nationale jazz. \nDit optreden wordt mede mogelijk gemaakt door het Fonds Podiumkunsten. \nEntree € 10\,00 online | € 12\,50 aan de deur\nTickets zijn HIER verkrijgbaar
URL:https://observant.nl/evenement/hurricane-5-the-brazilian-songbook-ft-francisco-rodriguez/
CATEGORIES:Evenement,Jazz
ATTACH;FMTTYPE=image/jpeg:https://observant.nl/wp-content/uploads/2025/11/Alexander-Beets-fotograaf-www.denozem.com-Groot.jpg
END:VEVENT
BEGIN:VEVENT
DTSTART;TZID=Europe/Amsterdam:20260218T203000
DTEND;TZID=Europe/Amsterdam:20260218T223000
DTSTAMP:20260422T172006
CREATED:20251216T140708Z
LAST-MODIFIED:20251218T142048Z
UID:3489-1771446600-1771453800@observant.nl
SUMMARY:Lucas Santana 5tet | JPA Albumpresentatie
DESCRIPTION:De Braziliaanse saxofonist en componist Lucas Santana presenteert nieuwe muziek met zijn dynamische quintet\, het Lucas Santana 5tet. Met dit ensemble laat hij zijn eigenzinnige mix horen van jazz\, blues\, soul en Braziliaanse muziek\, waarin zowel zijn diepe wortels als zijn brede artistieke visie doorklinken. \nMet zijn quintet bracht hij twee studioalbums uit (Reflections (2021) en Ambivalence (2022)) die door zowel nationale als internationale pers werden geprezen om hun originaliteit en emotionele diepgang. \nGeworteld in verschillende muziekstromingen brengt het quintet een rijk palet aan klankkleuren. Hun muziek ademt de energie van de hard bop\, terwijl de Braziliaanse ritmes en melodieën op alle niveaus aanwezig blijven. Santana en zijn medemuzikanten bewegen zich moeiteloos tussen verbeelding\, lef\, virtuositeit en passie. Soms razendsnel en technisch\, dan weer ingetogen en vol gevoel. \nMet optredens op podia als Bimhuis\, LantarenVenster en TivoliVredenburg heeft Santana inmiddels een stevige plaats veroverd binnen de Nederlandse jazzscene. Daarnaast won hij diverse prestigieuze prijzen\, waaronder de Latin Grammy Cultural Foundation Award (2016)\, Jazz Contest Bucharest (2017\, met AG Quintet)\, Keep an Eye The Records (2020) en de DownBeat Magazine Student Award (2021). \nLucas deelde het podium met jazziconen als Bob Mintzer\, Vince Mendoza\, Miguel Zenón\, Dick Oatts en Hermeto Pascoal\, en speelde met onder meer het Jazz Orchestra of the Concertgebouw\, de Four Tops & The Temptations. Ook was hij te horen als solist in de Metropole Studio Sessions: World Tour – Brazil. \nDit optreden wordt mede mogelijk gemaakt door het Fonds Podiumkunsten. \nEntree € 10\,00 online | € 12\,50 aan de deur\nTickets zijn HIER verkrijgbaar
URL:https://observant.nl/evenement/lucas-santana-5tet-jpa-albumpresentatie/
CATEGORIES:Concertagenda,Evenement,Jazz
ATTACH;FMTTYPE=image/jpeg:https://observant.nl/wp-content/uploads/2025/11/LS5tet-landscape-3.jpg
END:VEVENT
BEGIN:VEVENT
DTSTART;TZID=Europe/Amsterdam:20260225T203000
DTEND;TZID=Europe/Amsterdam:20260225T223000
DTSTAMP:20260422T172006
CREATED:20251216T142632Z
LAST-MODIFIED:20251216T142632Z
UID:3492-1772051400-1772058600@observant.nl
SUMMARY:Alice Leggett | JPA Spice up your Jazz
DESCRIPTION:Jazz en wereldmuziek kent vele stijlen en is er in vele smaken. Swingende standards\, schitterende vocalisten\, improviserende instrumentalisten\, maar ook eigenwijze nieuwe muziek die nét even wat meer vergt van de luisteraar. Onder de titel ‘Spice up your Jazz’ worden bands die normaliter voornamelijk in het Bimhuis\, Tivoli Vredenburg of LantarenVenster optreden nu ook onderdeel van het JPA programma. Dompel je onder in het avontuur en ontdek de mooiste parels die de actuele jazz te bieden heeft! \nAlice Leggett is een altsaxofoniste\, componist en bandleider die zich binnen de Europese jazzscene duidelijk onderscheidt. Na zeven jaren in de Londense en New Yorkse jazzscene woont de uit Cardiff (Wales) afkomstige muzikant tegenwoordig in Amsterdam. Haar muziek is diep geworteld in de jazztraditie en wordt beïnvloed door grootheden als Charlie Parker\, John Coltrane en Wayne Shorter\, maar ook door hedendaagse vernieuwers als Immanuel Wilkins\, Ben van Gelder en Melissa Aldana. Haar composities verenigen lyriek en emotie met avontuurlijke ritmische en harmonische verkenningen\, gedragen door een sterke improvisatorische kern. \nHet Alice Leggett Sextet bestaat uit internationale musici met elk een herkenbare muzikale signatuur: Alex Hitchcock (tenorsaxofoon)\, Alexandra Ridout (trompet)\, Noah Stoneman (piano)\, Tijs Klaassen (contrabas) en Wouter Kühne (drums). In het voorjaar van 2026 maakt het sextet een tournee door Nederland en het Verenigd Koninkrijk met muziek van Alice’ debuutalbum Birdsong en nieuw werk dat speciaal voor deze bezetting is geschreven. Dit optreden maakt daar onderdeel van uit. \nDit optreden wordt mede mogelijk gemaakt door het Fonds Podiumkunsten. \nEntree € 10\,00 online | € 12\,50 aan de deur\nTickets zijn HIER verkrijgbaar
URL:https://observant.nl/evenement/alice-leggett-jpa-spice-up-your-jazz/
CATEGORIES:Concertagenda,Evenement,Jazz
ATTACH;FMTTYPE=image/jpeg:https://observant.nl/wp-content/uploads/2025/12/Alice-Leggett-2-converted-from-png.jpeg
END:VEVENT
END:VCALENDAR